BEGIN:VCALENDAR
VERSION:2.0
PRODID:-//Ultima Online - ECPv5.16.4.1//NONSGML v1.0//EN
CALSCALE:GREGORIAN
METHOD:PUBLISH
X-WR-CALNAME:Ultima Online
X-ORIGINAL-URL:https://uo.com
X-WR-CALDESC:Events for Ultima Online
BEGIN:VTIMEZONE
TZID:America/New_York
BEGIN:DAYLIGHT
TZOFFSETFROM:-0500
TZOFFSETTO:-0400
TZNAME:EDT
DTSTART:20150308T070000
END:DAYLIGHT
BEGIN:STANDARD
TZOFFSETFROM:-0400
TZOFFSETTO:-0500
TZNAME:EST
DTSTART:20151101T060000
END:STANDARD
TZID:America/Los_Angeles
BEGIN:DAYLIGHT
TZOFFSETFROM:-0800
TZOFFSETTO:-0700
TZNAME:PDT
DTSTART:20150308T100000
END:DAYLIGHT
BEGIN:STANDARD
TZOFFSETFROM:-0700
TZOFFSETTO:-0800
TZNAME:PST
DTSTART:20151101T090000
END:STANDARD
TZID:Asia/Tokyo
BEGIN:STANDARD
TZOFFSETFROM:+0900
TZOFFSETTO:+0900
TZNAME:JST
DTSTART:20150101T000000
END:STANDARD
END:VTIMEZONE
BEGIN:VEVENT
DTSTART;TZID=America/New_York:20151018T153000
DTEND;TZID=America/New_York:20151018T163000
DTSTAMP:20260423T193429
CREATED:20151008T205653Z
LAST-MODIFIED:20151011T190227Z
UID:7180-1445182200-1445185800@uo.com
SUMMARY:Siege - 3:30pm EST  - The Reflection
DESCRIPTION:With the recent sightings of the  undead across the lands\, will the cause for them be found? \nMeet at the EM Hall\, 3:30 pm eastern
URL:https://uo.com/event/siege-330pm-est-the-reflection/
LOCATION:Siege Perilous
CATEGORIES:EM Event
END:VEVENT
BEGIN:VEVENT
DTSTART;TZID=America/Los_Angeles:20151018T180000
DTEND;TZID=America/Los_Angeles:20151018T183000
DTSTAMP:20260423T193429
CREATED:20151014T140916Z
LAST-MODIFIED:20151014T140916Z
UID:7755-1445191200-1445193000@uo.com
SUMMARY:Origin ~ Meeting with King Blackthorn
DESCRIPTION:
URL:https://uo.com/event/origin-meeting-with-king-blackthorn/
LOCATION:Origin
CATEGORIES:EM Event
END:VEVENT
BEGIN:VEVENT
DTSTART;TZID=America/Los_Angeles:20151018T183000
DTEND;TZID=America/Los_Angeles:20151018T193000
DTSTAMP:20260423T193429
CREATED:20151015T012822Z
LAST-MODIFIED:20151015T155418Z
UID:7764-1445193000-1445196600@uo.com
SUMMARY:Origin ~ O.R.G. Boot Camp V (FS I)
DESCRIPTION:
URL:https://uo.com/event/origin-o-r-g-boot-camp-v-fs-i/
LOCATION:Origin
CATEGORIES:EM Event
END:VEVENT
BEGIN:VEVENT
DTSTART;TZID=Asia/Tokyo:20151018T220000
DTEND;TZID=Asia/Tokyo:20151018T220000
DTSTAMP:20260423T193429
CREATED:20151004T033331Z
LAST-MODIFIED:20151004T033331Z
UID:6589-1445205600-1445205600@uo.com
SUMMARY:Sakura - The Bagball Dyeing Game
DESCRIPTION:TBD \n 
URL:https://uo.com/event/sakura-the-bagball-dyeing-game/
LOCATION:Luna Fairground
CATEGORIES:EM Event
END:VEVENT
END:VCALENDAR