BEGIN:VCALENDAR
VERSION:2.0
PRODID:-//Ultima Online - ECPv5.16.4.1//NONSGML v1.0//EN
CALSCALE:GREGORIAN
METHOD:PUBLISH
X-WR-CALNAME:Ultima Online
X-ORIGINAL-URL:https://uo.com
X-WR-CALDESC:Events for Ultima Online
BEGIN:VTIMEZONE
TZID:America/New_York
BEGIN:DAYLIGHT
TZOFFSETFROM:-0500
TZOFFSETTO:-0400
TZNAME:EDT
DTSTART:20150308T070000
END:DAYLIGHT
BEGIN:STANDARD
TZOFFSETFROM:-0400
TZOFFSETTO:-0500
TZNAME:EST
DTSTART:20151101T060000
END:STANDARD
TZID:Europe/Berlin
BEGIN:DAYLIGHT
TZOFFSETFROM:+0100
TZOFFSETTO:+0200
TZNAME:CEST
DTSTART:20150329T010000
END:DAYLIGHT
BEGIN:STANDARD
TZOFFSETFROM:+0200
TZOFFSETTO:+0100
TZNAME:CET
DTSTART:20151025T010000
END:STANDARD
TZID:Asia/Taipei
BEGIN:STANDARD
TZOFFSETFROM:+0800
TZOFFSETTO:+0800
TZNAME:CST
DTSTART:20150101T000000
END:STANDARD
TZID:Asia/Tokyo
BEGIN:STANDARD
TZOFFSETFROM:+0900
TZOFFSETTO:+0900
TZNAME:JST
DTSTART:20150101T000000
END:STANDARD
END:VTIMEZONE
BEGIN:VEVENT
DTSTART;TZID=America/New_York:20151025T200000
DTEND;TZID=America/New_York:20151025T210000
DTSTAMP:20260423T193430
CREATED:20151005T110048Z
LAST-MODIFIED:20151005T110048Z
UID:6669-1445803200-1445806800@uo.com
SUMMARY:Lake Superior Who ya gonna call??? GHOST BUSTERS!!! 8pm EST
DESCRIPTION:Moonglow grave yard is out of hand and the Governor is asking for help. Meet at Moonglow Bank 8pm EST and bring your Ghost traps……
URL:https://uo.com/event/lake-superior-who-ya-gonna-call-ghost-busters-8pm-est/
LOCATION:Lake Superior
CATEGORIES:EM Event
END:VEVENT
BEGIN:VEVENT
DTSTART;TZID=America/New_York:20151025T200000
DTEND;TZID=America/New_York:20151025T210000
DTSTAMP:20260423T193430
CREATED:20151008T152215Z
LAST-MODIFIED:20151008T183129Z
UID:7142-1445803200-1445806800@uo.com
SUMMARY:Atlantic - Conseil du Roi
DESCRIPTION:King Blackthorn meets with the Governors and Citizens of the cities of Britannia.
URL:https://uo.com/event/atlantic-royal-council-meeting/
LOCATION:Atlantic
CATEGORIES:EM Event,Player Event
END:VEVENT
BEGIN:VEVENT
DTSTART;TZID=Europe/Berlin:20151025T203000
DTEND;TZID=Europe/Berlin:20151025T220000
DTSTAMP:20260423T193430
CREATED:20150928T120427Z
LAST-MODIFIED:20150928T120446Z
UID:5701-1445805000-1445810400@uo.com
SUMMARY:Drachenfels: Royal Audience & HoF | Königliche Audienz & HoF
DESCRIPTION:A Royal Audience will be held and another “House of Flunkeydom” (HoF) RP-event afterwards. |  Eine Königliche Audienz wird abgehalten und ein weiteres “Haus der Dienerschaft” (HoF) RP-Event danach stattfinden.\nTime: 8:30pm CEST | Zeit: 20:30 Uhr CEST.\nCastle Blackthorn\, Britain\, Trammel.
URL:https://uo.com/event/drachenfels-royal-audience-hof-konigliche-audienz-hof/
LOCATION:Drachenfels
CATEGORIES:EM Event
END:VEVENT
BEGIN:VEVENT
DTSTART;TZID=Asia/Taipei:20151025T210000
DTEND;TZID=Asia/Taipei:20151025T220000
DTSTAMP:20260423T193430
CREATED:20151017T033544Z
LAST-MODIFIED:20151017T034058Z
UID:7773-1445806800-1445810400@uo.com
SUMMARY:Formosa Halloween Game Day
DESCRIPTION:Event location Britain EM Hall \nMoongate will be open at Luna near the start of the event. \nAlway Check Town Criers for any update of the event news. \nSee you on that day !!!
URL:https://uo.com/event/formosa-halloween-game-day/
LOCATION:Formosa Britain EM Hall
CATEGORIES:EM Event
END:VEVENT
BEGIN:VEVENT
DTSTART;TZID=Asia/Tokyo:20151025T220000
DTEND;TZID=Asia/Tokyo:20151025T220000
DTSTAMP:20260423T193430
CREATED:20151002T145203Z
LAST-MODIFIED:20151002T145203Z
UID:6424-1445810400-1445810400@uo.com
SUMMARY:Yamato - The Council Meeting with the King
DESCRIPTION:The King invites all Governors and Citizens to the Council Meeting. \n*Please note this meeting requires everyone is “in-character”\, and thus roleplay is expected of all who attend.
URL:https://uo.com/event/yamato-the-council-meeting-with-the-king-2/
LOCATION:Castle Blackthorn
CATEGORIES:EM Event
END:VEVENT
BEGIN:VEVENT
DTSTART;TZID=Asia/Tokyo:20151025T220000
DTEND;TZID=Asia/Tokyo:20151025T220000
DTSTAMP:20260423T193430
CREATED:20151004T031747Z
LAST-MODIFIED:20151004T031953Z
UID:6587-1445810400-1445810400@uo.com
SUMMARY:Sakura - The Council Meeting
DESCRIPTION:Hello all \nIt is hosted by King Blackthorn every month\, and governors and citizens of the town are invited to the held council! \n  \n 
URL:https://uo.com/event/sakura-the-council-meeting/
LOCATION:Blackthorn Castle
CATEGORIES:EM Event
END:VEVENT
END:VCALENDAR