BEGIN:VCALENDAR
VERSION:2.0
PRODID:-//Ultima Online - ECPv5.16.4.1//NONSGML v1.0//EN
CALSCALE:GREGORIAN
METHOD:PUBLISH
X-WR-CALNAME:Ultima Online
X-ORIGINAL-URL:https://uo.com
X-WR-CALDESC:Events for Ultima Online
BEGIN:VTIMEZONE
TZID:America/New_York
BEGIN:DAYLIGHT
TZOFFSETFROM:-0500
TZOFFSETTO:-0400
TZNAME:EDT
DTSTART:20150308T070000
END:DAYLIGHT
BEGIN:STANDARD
TZOFFSETFROM:-0400
TZOFFSETTO:-0500
TZNAME:EST
DTSTART:20151101T060000
END:STANDARD
TZID:America/Los_Angeles
BEGIN:DAYLIGHT
TZOFFSETFROM:-0800
TZOFFSETTO:-0700
TZNAME:PDT
DTSTART:20150308T100000
END:DAYLIGHT
BEGIN:STANDARD
TZOFFSETFROM:-0700
TZOFFSETTO:-0800
TZNAME:PST
DTSTART:20151101T090000
END:STANDARD
END:VTIMEZONE
BEGIN:VEVENT
DTSTART;TZID=America/New_York:20151027T180000
DTEND;TZID=America/New_York:20151027T190000
DTSTAMP:20260423T180637
CREATED:20151014T185424Z
LAST-MODIFIED:20151014T185424Z
UID:7762-1445968800-1445972400@uo.com
SUMMARY:Oceania - 6pm  AEST The Revenge of the Headless Horseman
DESCRIPTION:The Revenge of the Headless Horseman. Meet at counsel hall.
URL:https://uo.com/event/oceania-6pm-aest-the-revenge-of-the-headless-horseman/
LOCATION:Oceania
CATEGORIES:EM Event
END:VEVENT
BEGIN:VEVENT
DTSTART;TZID=America/Los_Angeles:20151027T190000
DTEND;TZID=America/Los_Angeles:20151027T200000
DTSTAMP:20260423T180637
CREATED:20151024T212844Z
LAST-MODIFIED:20151024T212844Z
UID:7862-1445972400-1445976000@uo.com
SUMMARY:Origin ~ Ghouls\, Ghosts\, & Goblins!!
DESCRIPTION:
URL:https://uo.com/event/origin-ghouls-ghosts-goblins/
LOCATION:Origin
CATEGORIES:EM Event
END:VEVENT
BEGIN:VEVENT
DTSTART;TZID=America/New_York:20151027T200000
DTEND;TZID=America/New_York:20151027T200000
DTSTAMP:20260423T180637
CREATED:20151003T033810Z
LAST-MODIFIED:20151003T033810Z
UID:6504-1445976000-1445976000@uo.com
SUMMARY:Great Lakes - Royal Britannian Guard
DESCRIPTION:“Danse Macabre: Finale”
URL:https://uo.com/event/great-lakes-royal-britannian-guard/
LOCATION:Great Lakes – Counselor Hall
CATEGORIES:EM Event
END:VEVENT
END:VCALENDAR