BEGIN:VCALENDAR
VERSION:2.0
PRODID:-//Ultima Online - ECPv5.16.4.1//NONSGML v1.0//EN
CALSCALE:GREGORIAN
METHOD:PUBLISH
X-WR-CALNAME:Ultima Online
X-ORIGINAL-URL:https://uo.com
X-WR-CALDESC:Events for Ultima Online
BEGIN:VTIMEZONE
TZID:Asia/Seoul
BEGIN:STANDARD
TZOFFSETFROM:+0900
TZOFFSETTO:+0900
TZNAME:KST
DTSTART:20150101T000000
END:STANDARD
TZID:Asia/Tokyo
BEGIN:STANDARD
TZOFFSETFROM:+0900
TZOFFSETTO:+0900
TZNAME:JST
DTSTART:20150101T000000
END:STANDARD
END:VTIMEZONE
BEGIN:VEVENT
DTSTART;TZID=Asia/Seoul:20151031T220000
DTEND;TZID=Asia/Seoul:20151031T234000
DTSTAMP:20260423T180525
CREATED:20151017T034329Z
LAST-MODIFIED:20151017T034329Z
UID:7778-1446328800-1446334800@uo.com
SUMMARY:Balhae Halloween Event
DESCRIPTION:Event location EM Britain Hall \nMoongate will be open at Luna near the start of the event. \nAlway Check Town Criers for any update of the event news. \nSee you on that day !!!
URL:https://uo.com/event/balhae-halloween-event/
LOCATION:Balhae EM Britain Hall
CATEGORIES:EM Event
END:VEVENT
BEGIN:VEVENT
DTSTART;TZID=Asia/Tokyo:20151031T220000
DTEND;TZID=Asia/Tokyo:20151031T220000
DTSTAMP:20260423T180525
CREATED:20151024T044900Z
LAST-MODIFIED:20151024T044900Z
UID:7858-1446328800-1446328800@uo.com
SUMMARY:Sakura - Trick or Treat ! 2
DESCRIPTION:Hello all 🙂 \nSakura event “Trick or Treat? 2” will be held on 10/31/2015\,Saturday\,9:00 am EST.\nMeeting place: Sakura EM hall Nujelm\,Trammel. \nPlot:\nA green goblin boy(RPC) will come to Britannia.\nPlease meet him at the Sakura EM hall and talk with him. \nChat: JapanEMevent \nSee you soon!
URL:https://uo.com/event/sakura-trick-or-treat-2/
LOCATION:Sakura – EM Hall\, Japan
CATEGORIES:EM Event
END:VEVENT
END:VCALENDAR