BEGIN:VCALENDAR
VERSION:2.0
PRODID:-//Ultima Online - ECPv5.16.4.1//NONSGML v1.0//EN
CALSCALE:GREGORIAN
METHOD:PUBLISH
X-WR-CALNAME:Ultima Online
X-ORIGINAL-URL:https://uo.com
X-WR-CALDESC:Events for Ultima Online
BEGIN:VTIMEZONE
TZID:America/New_York
BEGIN:DAYLIGHT
TZOFFSETFROM:-0500
TZOFFSETTO:-0400
TZNAME:EDT
DTSTART:20150308T070000
END:DAYLIGHT
BEGIN:STANDARD
TZOFFSETFROM:-0400
TZOFFSETTO:-0500
TZNAME:EST
DTSTART:20151101T060000
END:STANDARD
END:VTIMEZONE
BEGIN:VEVENT
DTSTART;TZID=America/New_York:20151112T180000
DTEND;TZID=America/New_York:20151112T190000
DTSTAMP:20260423T180740
CREATED:20151110T210905Z
LAST-MODIFIED:20151110T210905Z
UID:8084-1447351200-1447354800@uo.com
SUMMARY:Oceania - Counsel Meeting
DESCRIPTION:Meet at Blackthorn castle.
URL:https://uo.com/event/oceania-counsel-meeting/
LOCATION:Oceania
CATEGORIES:EM Event
END:VEVENT
BEGIN:VEVENT
DTSTART;TZID=America/New_York:20151112T190000
DTEND;TZID=America/New_York:20151112T200000
DTSTAMP:20260423T180740
CREATED:20151105T021032Z
LAST-MODIFIED:20151105T021032Z
UID:7926-1447354800-1447358400@uo.com
SUMMARY:Pacific - “Into The Deep”
DESCRIPTION:
URL:https://uo.com/event/pacific-into-the-deep/
LOCATION:Pacific
CATEGORIES:EM Event
END:VEVENT
END:VCALENDAR