BEGIN:VCALENDAR
VERSION:2.0
PRODID:-//Ultima Online - ECPv5.16.4.1//NONSGML v1.0//EN
CALSCALE:GREGORIAN
METHOD:PUBLISH
X-WR-CALNAME:Ultima Online
X-ORIGINAL-URL:https://uo.com
X-WR-CALDESC:Events for Ultima Online
BEGIN:VTIMEZONE
TZID:America/New_York
BEGIN:DAYLIGHT
TZOFFSETFROM:-0500
TZOFFSETTO:-0400
TZNAME:EDT
DTSTART:20150308T070000
END:DAYLIGHT
BEGIN:STANDARD
TZOFFSETFROM:-0400
TZOFFSETTO:-0500
TZNAME:EST
DTSTART:20151101T060000
END:STANDARD
TZID:America/Los_Angeles
BEGIN:DAYLIGHT
TZOFFSETFROM:-0800
TZOFFSETTO:-0700
TZNAME:PDT
DTSTART:20150308T100000
END:DAYLIGHT
BEGIN:STANDARD
TZOFFSETFROM:-0700
TZOFFSETTO:-0800
TZNAME:PST
DTSTART:20151101T090000
END:STANDARD
TZID:Europe/Berlin
BEGIN:DAYLIGHT
TZOFFSETFROM:+0100
TZOFFSETTO:+0200
TZNAME:CEST
DTSTART:20150329T010000
END:DAYLIGHT
BEGIN:STANDARD
TZOFFSETFROM:+0200
TZOFFSETTO:+0100
TZNAME:CET
DTSTART:20151025T010000
END:STANDARD
END:VTIMEZONE
BEGIN:VEVENT
DTSTART;TZID=America/New_York:20151115T150000
DTEND;TZID=America/New_York:20151115T160000
DTSTAMP:20260423T180806
CREATED:20151110T211027Z
LAST-MODIFIED:20151110T211027Z
UID:8085-1447599600-1447603200@uo.com
SUMMARY:Oceania - It's a Hunting Party!!
DESCRIPTION:It’s a Hunting Party!! Meet at Counsel Hall. Prepare to hunt!
URL:https://uo.com/event/oceania-its-a-hunting-party/
LOCATION:Oceania
CATEGORIES:EM Event
END:VEVENT
BEGIN:VEVENT
DTSTART;TZID=America/Los_Angeles:20151115T170000
DTEND;TZID=America/Los_Angeles:20151115T180000
DTSTAMP:20260423T180806
CREATED:20151102T163426Z
LAST-MODIFIED:20151114T211635Z
UID:7897-1447606800-1447610400@uo.com
SUMMARY:Baja Jeopardy and Games!
DESCRIPTION:11/15/15 - Baja Jeopardy and Games!- Meet at the Awards Hall in Malas! 5pm pst\nGames include. Archery contest\, UO Jeopardy\, Horse race\, Polar bear summoning!
URL:https://uo.com/event/baja-jeopardy-and-games/
LOCATION:Baja
CATEGORIES:EM Event
END:VEVENT
BEGIN:VEVENT
DTSTART;TZID=America/Los_Angeles:20151115T180000
DTEND;TZID=America/Los_Angeles:20151115T183000
DTSTAMP:20260423T180806
CREATED:20151111T020703Z
LAST-MODIFIED:20151111T020703Z
UID:8095-1447610400-1447612200@uo.com
SUMMARY:Origin ~ Meeting with King Blackthorn
DESCRIPTION:
URL:https://uo.com/event/origin-meeting-with-king-blackthorn-2/
LOCATION:Origin
CATEGORIES:EM Event
END:VEVENT
BEGIN:VEVENT
DTSTART;TZID=America/Los_Angeles:20151115T183000
DTEND;TZID=America/Los_Angeles:20151115T193000
DTSTAMP:20260423T180806
CREATED:20151111T021048Z
LAST-MODIFIED:20151111T021048Z
UID:8096-1447612200-1447615800@uo.com
SUMMARY:Origin ~ O.R.G. Boot Camp VI (FS II)
DESCRIPTION:
URL:https://uo.com/event/origin-o-r-g-boot-camp-vi-fs-ii/
LOCATION:Origin
CATEGORIES:EM Event
END:VEVENT
BEGIN:VEVENT
DTSTART;TZID=Europe/Berlin:20151115T203000
DTEND;TZID=Europe/Berlin:20151115T220000
DTSTAMP:20260423T180806
CREATED:20151029T091705Z
LAST-MODIFIED:20151029T091903Z
UID:7873-1447619400-1447624800@uo.com
SUMMARY:Drachenfels: The Flying Pumpkin | Der fliegende Kürbis
DESCRIPTION:Main Event. | Hauptevent.\nTime: 8:30pm CET (UTC+1) | Zeit: 20:30 Uhr CET.\nThe Crown has ordered a shipload of pumpkins. But they never arrived at the Castle! | Die Krone hat ein Schiff voll Kürbisse geordert. Aber sie sind nie im Schloss angekommen!\nThis is also a HoF (RP) Mission. | Das ist ebenfalls eine HoF (RP) Mission.
URL:https://uo.com/event/drachenfels-the-flying-pumpkin-der-fliegende-kurbis/
LOCATION:Drachenfels
CATEGORIES:EM Event
END:VEVENT
END:VCALENDAR