BEGIN:VCALENDAR
VERSION:2.0
PRODID:-//Ultima Online - ECPv5.16.4.1//NONSGML v1.0//EN
CALSCALE:GREGORIAN
METHOD:PUBLISH
X-WR-CALNAME:Ultima Online
X-ORIGINAL-URL:https://uo.com
X-WR-CALDESC:Events for Ultima Online
BEGIN:VTIMEZONE
TZID:America/Los_Angeles
BEGIN:DAYLIGHT
TZOFFSETFROM:-0800
TZOFFSETTO:-0700
TZNAME:PDT
DTSTART:20150308T100000
END:DAYLIGHT
BEGIN:STANDARD
TZOFFSETFROM:-0700
TZOFFSETTO:-0800
TZNAME:PST
DTSTART:20151101T090000
END:STANDARD
TZID:Asia/Tokyo
BEGIN:STANDARD
TZOFFSETFROM:+0900
TZOFFSETTO:+0900
TZNAME:JST
DTSTART:20150101T000000
END:STANDARD
TZID:Asia/Seoul
BEGIN:STANDARD
TZOFFSETFROM:+0900
TZOFFSETTO:+0900
TZNAME:KST
DTSTART:20150101T000000
END:STANDARD
END:VTIMEZONE
BEGIN:VEVENT
DTSTART;TZID=America/Los_Angeles:20151127T190000
DTEND;TZID=America/Los_Angeles:20151127T200000
DTSTAMP:20260423T193435
CREATED:20151123T060631Z
LAST-MODIFIED:20151123T060631Z
UID:8153-1448650800-1448654400@uo.com
SUMMARY:Origin ~ Have Gear Will Travel – Mission 6 – Monks Robbed! Ch. 3
DESCRIPTION:
URL:https://uo.com/event/origin-have-gear-will-travel-mission-6-monks-robbed-ch-3/
LOCATION:Origin
CATEGORIES:EM Event
END:VEVENT
BEGIN:VEVENT
DTSTART;TZID=Asia/Tokyo:20151127T220000
DTEND;TZID=Asia/Tokyo:20151127T220000
DTSTAMP:20260423T193435
CREATED:20151101T133825Z
LAST-MODIFIED:20151101T133825Z
UID:7894-1448661600-1448661600@uo.com
SUMMARY:Wakoku – The Council Meeting
DESCRIPTION:Location : Castle Blackthorn
URL:https://uo.com/event/wakoku-the-council-meeting-2/
LOCATION:Wakoku
CATEGORIES:EM Event
END:VEVENT
BEGIN:VEVENT
DTSTART;TZID=Asia/Tokyo:20151127T220000
DTEND;TZID=Asia/Tokyo:20151127T220000
DTSTAMP:20260423T193435
CREATED:20151102T170055Z
LAST-MODIFIED:20151102T170055Z
UID:7908-1448661600-1448661600@uo.com
SUMMARY:Yamato - Santa's Sleigh (Slay?)
DESCRIPTION:On the day\, there will be a huge Evil Santa Spawn sweeping all over Britannia. \nWatch out!
URL:https://uo.com/event/yamato-santas-sleigh-slay/
LOCATION:TBD
CATEGORIES:EM Event
END:VEVENT
BEGIN:VEVENT
DTSTART;TZID=Asia/Seoul:20151127T220000
DTEND;TZID=Asia/Seoul:20151127T235500
DTSTAMP:20260423T193435
CREATED:20151125T150751Z
LAST-MODIFIED:20151125T150751Z
UID:8159-1448661600-1448668500@uo.com
SUMMARY:Balhae Thanksgiving Event
DESCRIPTION:Thanksgiving Event on Balhae
URL:https://uo.com/event/balhae-thanksgiving-event/
LOCATION:Balhae EM Britain Hall
CATEGORIES:EM Event
END:VEVENT
END:VCALENDAR