BEGIN:VCALENDAR
VERSION:2.0
PRODID:-//Ultima Online - ECPv5.16.4.1//NONSGML v1.0//EN
CALSCALE:GREGORIAN
METHOD:PUBLISH
X-WR-CALNAME:Ultima Online
X-ORIGINAL-URL:https://uo.com
X-WR-CALDESC:Events for Ultima Online
BEGIN:VTIMEZONE
TZID:America/New_York
BEGIN:DAYLIGHT
TZOFFSETFROM:-0500
TZOFFSETTO:-0400
TZNAME:EDT
DTSTART:20150308T070000
END:DAYLIGHT
BEGIN:STANDARD
TZOFFSETFROM:-0400
TZOFFSETTO:-0500
TZNAME:EST
DTSTART:20151101T060000
END:STANDARD
TZID:America/Los_Angeles
BEGIN:DAYLIGHT
TZOFFSETFROM:-0800
TZOFFSETTO:-0700
TZNAME:PDT
DTSTART:20150308T100000
END:DAYLIGHT
BEGIN:STANDARD
TZOFFSETFROM:-0700
TZOFFSETTO:-0800
TZNAME:PST
DTSTART:20151101T090000
END:STANDARD
TZID:Asia/Taipei
BEGIN:STANDARD
TZOFFSETFROM:+0800
TZOFFSETTO:+0800
TZNAME:CST
DTSTART:20150101T000000
END:STANDARD
TZID:Asia/Tokyo
BEGIN:STANDARD
TZOFFSETFROM:+0900
TZOFFSETTO:+0900
TZNAME:JST
DTSTART:20150101T000000
END:STANDARD
END:VTIMEZONE
BEGIN:VEVENT
DTSTART;TZID=America/New_York:20151128T153000
DTEND;TZID=America/New_York:20151128T170000
DTSTAMP:20260423T180649
CREATED:20151110T194013Z
LAST-MODIFIED:20151110T194013Z
UID:8082-1448724600-1448730000@uo.com
SUMMARY:Siege - November Justice
DESCRIPTION:King Blackthorn has called a meeting. Meet in his throne room in Britain.
URL:https://uo.com/event/siege-november-justice/
LOCATION:Siege Perilous
CATEGORIES:EM Event
END:VEVENT
BEGIN:VEVENT
DTSTART;TZID=America/Los_Angeles:20151128T190000
DTEND;TZID=America/Los_Angeles:20151128T200000
DTSTAMP:20260423T180649
CREATED:20151102T165136Z
LAST-MODIFIED:20151102T165136Z
UID:7906-1448737200-1448740800@uo.com
SUMMARY:Baja - Pet Battles!
DESCRIPTION:11/28/15- Pet Battles! November pets are Dragon Turtles!! 7pm pst\nMeet at New Haven Arena with your Dragon Turtles!
URL:https://uo.com/event/baja-pet-battles/
LOCATION:Baja
CATEGORIES:EM Event
END:VEVENT
BEGIN:VEVENT
DTSTART;TZID=Asia/Taipei:20151128T210000
DTEND;TZID=Asia/Taipei:20151128T230000
DTSTAMP:20260423T180649
CREATED:20151125T153532Z
LAST-MODIFIED:20151125T153532Z
UID:8160-1448744400-1448751600@uo.com
SUMMARY:Formosa Snake 12th Zodiac Event
DESCRIPTION:Final Zodiac Event
URL:https://uo.com/event/formosa-snake-12th-zodiac-event/
LOCATION:Formosa Britain Guardhouse
CATEGORIES:EM Event
END:VEVENT
BEGIN:VEVENT
DTSTART;TZID=Asia/Tokyo:20151128T220000
DTEND;TZID=Asia/Tokyo:20151128T220000
DTSTAMP:20260423T180649
CREATED:20151027T021956Z
LAST-MODIFIED:20151027T021956Z
UID:7866-1448748000-1448748000@uo.com
SUMMARY:Asuka-TBD
DESCRIPTION: Details TBD(Japanese only)\nhttp://asuka.uoem.net/
URL:https://uo.com/event/asuka-tbd/
LOCATION:Asuka
CATEGORIES:EM Event
END:VEVENT
BEGIN:VEVENT
DTSTART;TZID=Asia/Tokyo:20151128T220000
DTEND;TZID=Asia/Tokyo:20151128T220000
DTSTAMP:20260423T180649
CREATED:20151111T082049Z
LAST-MODIFIED:20151111T082049Z
UID:8099-1448748000-1448748000@uo.com
SUMMARY:Sakura - “Santa Claus is coming to Britannia! part 1”
DESCRIPTION:Hello all 🙂 \nAn Old Santa need your help!\nPlease meet him at the WBB and talk with him. \nchat: JapanEMevent \nSee you soon!
URL:https://uo.com/event/sakura-santa-claus-is-coming-to-britannia-part-1/
LOCATION:West Britain Bank
CATEGORIES:EM Event
END:VEVENT
END:VCALENDAR