BEGIN:VCALENDAR
VERSION:2.0
PRODID:-//Ultima Online - ECPv5.16.4.1//NONSGML v1.0//EN
CALSCALE:GREGORIAN
METHOD:PUBLISH
X-WR-CALNAME:Ultima Online
X-ORIGINAL-URL:https://uo.com
X-WR-CALDESC:Events for Ultima Online
BEGIN:VTIMEZONE
TZID:Asia/Tokyo
BEGIN:STANDARD
TZOFFSETFROM:+0900
TZOFFSETTO:+0900
TZNAME:JST
DTSTART:20160101T000000
END:STANDARD
END:VTIMEZONE
BEGIN:VEVENT
DTSTART;TZID=Asia/Tokyo:20160101T000000
DTEND;TZID=Asia/Tokyo:20160101T000000
DTSTAMP:20260423T151014
CREATED:20151208T121012Z
LAST-MODIFIED:20151208T121012Z
UID:8288-1451606400-1451606400@uo.com
SUMMARY:Yamato - Planet of the Apes
DESCRIPTION:Let’s celebrate the new year of the Ape!
URL:https://uo.com/event/yamato-planet-of-the-apes/
LOCATION:The Royal Zoo of Moonglow
CATEGORIES:EM Event
END:VEVENT
END:VCALENDAR