BEGIN:VCALENDAR
VERSION:2.0
PRODID:-//Ultima Online - ECPv5.16.4.1//NONSGML v1.0//EN
CALSCALE:GREGORIAN
METHOD:PUBLISH
X-WR-CALNAME:Ultima Online
X-ORIGINAL-URL:https://uo.com
X-WR-CALDESC:Events for Ultima Online
BEGIN:VTIMEZONE
TZID:America/New_York
BEGIN:DAYLIGHT
TZOFFSETFROM:-0500
TZOFFSETTO:-0400
TZNAME:EDT
DTSTART:20160313T070000
END:DAYLIGHT
BEGIN:STANDARD
TZOFFSETFROM:-0400
TZOFFSETTO:-0500
TZNAME:EST
DTSTART:20161106T060000
END:STANDARD
END:VTIMEZONE
BEGIN:VEVENT
DTSTART;TZID=America/New_York:20160107T190000
DTEND;TZID=America/New_York:20160107T200000
DTSTAMP:20260423T151012
CREATED:20160101T111807Z
LAST-MODIFIED:20160101T111807Z
UID:8524-1452193200-1452196800@uo.com
SUMMARY:Lake Superior **Emergency Kings meeting**
DESCRIPTION:The Kings Asks for all his Governors to come meet him to discuss the fate of Moonglow.
URL:https://uo.com/event/lake-superior-emergency-kings-meeting/
LOCATION:BT Castle\, Brit
CATEGORIES:EM Event
END:VEVENT
END:VCALENDAR