BEGIN:VCALENDAR
VERSION:2.0
PRODID:-//Ultima Online - ECPv5.16.4.1//NONSGML v1.0//EN
CALSCALE:GREGORIAN
METHOD:PUBLISH
X-WR-CALNAME:Ultima Online
X-ORIGINAL-URL:https://uo.com
X-WR-CALDESC:Events for Ultima Online
BEGIN:VTIMEZONE
TZID:Europe/Berlin
BEGIN:DAYLIGHT
TZOFFSETFROM:+0100
TZOFFSETTO:+0200
TZNAME:CEST
DTSTART:20160327T010000
END:DAYLIGHT
BEGIN:STANDARD
TZOFFSETFROM:+0200
TZOFFSETTO:+0100
TZNAME:CET
DTSTART:20161030T010000
END:STANDARD
TZID:Asia/Tokyo
BEGIN:STANDARD
TZOFFSETFROM:+0900
TZOFFSETTO:+0900
TZNAME:JST
DTSTART:20160101T000000
END:STANDARD
END:VTIMEZONE
BEGIN:VEVENT
DTSTART;TZID=Europe/Berlin:20160110T203000
DTEND;TZID=Europe/Berlin:20160110T220000
DTSTAMP:20260423T151025
CREATED:20151231T120432Z
LAST-MODIFIED:20151231T120812Z
UID:8509-1452457800-1452463200@uo.com
SUMMARY:Drachenfels: House Decoration Contest | Haus Deko Wettbewerb
DESCRIPTION:Time: 8:30pm CET (UTC+1). Location: Counselor’s Hall\, Britain\, Trammel.\nHouse Decoration Contest – everything new for the New Year! Explanation of the theme\, rules\, question rounds and opening signal for the contest. \nZeit: 20:30 Uhr CET (UTC+1). Ort: Counselor’s Hall\, Britain\, Trammel.\nHaus Dekorations Wettbewerb – alles neu macht das Jahr! Erklärung des Themas\, Regeln\, Fragerunde und Startschuss zum Wettbewerb.
URL:https://uo.com/event/drachenfels-house-decoration-contest-haus-deko-wettbewerb/
LOCATION:Drachenfels
CATEGORIES:EM Event
END:VEVENT
BEGIN:VEVENT
DTSTART;TZID=Asia/Tokyo:20160110T220000
DTEND;TZID=Asia/Tokyo:20160110T220000
DTSTAMP:20260423T151025
CREATED:20151226T134139Z
LAST-MODIFIED:20151226T134139Z
UID:8478-1452463200-1452463200@uo.com
SUMMARY:Sakura - “The 2016 Lucky Man/Woman race”
DESCRIPTION:Dead man running event.\nTBD \nplease check Sakura EM website.
URL:https://uo.com/event/sakura-the-2016-lucky-manwoman-race/
LOCATION:Sakura – EM Hall\, Japan
CATEGORIES:EM Event
END:VEVENT
END:VCALENDAR