BEGIN:VCALENDAR
VERSION:2.0
PRODID:-//Ultima Online - ECPv5.16.4.1//NONSGML v1.0//EN
CALSCALE:GREGORIAN
METHOD:PUBLISH
X-WR-CALNAME:Ultima Online
X-ORIGINAL-URL:https://uo.com
X-WR-CALDESC:Events for Ultima Online
BEGIN:VTIMEZONE
TZID:America/Los_Angeles
BEGIN:DAYLIGHT
TZOFFSETFROM:-0800
TZOFFSETTO:-0700
TZNAME:PDT
DTSTART:20160313T100000
END:DAYLIGHT
BEGIN:STANDARD
TZOFFSETFROM:-0700
TZOFFSETTO:-0800
TZNAME:PST
DTSTART:20161106T090000
END:STANDARD
TZID:America/New_York
BEGIN:DAYLIGHT
TZOFFSETFROM:-0500
TZOFFSETTO:-0400
TZNAME:EDT
DTSTART:20160313T070000
END:DAYLIGHT
BEGIN:STANDARD
TZOFFSETFROM:-0400
TZOFFSETTO:-0500
TZNAME:EST
DTSTART:20161106T060000
END:STANDARD
END:VTIMEZONE
BEGIN:VEVENT
DTSTART;TZID=America/Los_Angeles:20160114T190000
DTEND;TZID=America/Los_Angeles:20160114T200000
DTSTAMP:20260423T151025
CREATED:20160112T071719Z
LAST-MODIFIED:20160112T225307Z
UID:8641-1452798000-1452801600@uo.com
SUMMARY:Pacific Governors Meeting
DESCRIPTION:
URL:https://uo.com/event/pacific-governors-meeting/
LOCATION:King Blackthorns Castle – Pacific
CATEGORIES:EM Event
END:VEVENT
BEGIN:VEVENT
DTSTART;TZID=America/New_York:20160114T200000
DTEND;TZID=America/New_York:20160114T210000
DTSTAMP:20260423T151025
CREATED:20160108T235804Z
LAST-MODIFIED:20160108T235804Z
UID:8593-1452801600-1452805200@uo.com
SUMMARY:Atlantic - ""The Horrible" (Delayed Christmas Event)"
DESCRIPTION:
URL:https://uo.com/event/atlantic-the-horrible-delayed-christmas-event/
LOCATION:Blackthorn’s Castle Courtyard
CATEGORIES:EM Event
END:VEVENT
BEGIN:VEVENT
DTSTART;TZID=America/New_York:20160114T203000
DTEND;TZID=America/New_York:20160114T220000
DTSTAMP:20260423T151025
CREATED:20151231T122638Z
LAST-MODIFIED:20151231T122638Z
UID:8511-1452803400-1452808800@uo.com
SUMMARY:Drachenfels: HoF Mission - The Cleaning Squad | Die Putzkolonne
DESCRIPTION:Time: 8:30pm CET (UTC+1).  Location: Castle Blackthorn Courtyard\, Britain\, Trammel.\nMain Event (RP): HoF Mission – The Cleaning Squad. \nZeit: 20:30 Uhr CET (UTC+1). Ort: Schloss Blackthorn\, im Schlosshof\, Britain\, Trammel.\nHauptevent (RP): HoF Mission – Die Putzkolonne.
URL:https://uo.com/event/drachenfels-hof-mission-the-cleaning-squad-die-putzkolonne/
LOCATION:Drachenfels
CATEGORIES:EM Event
END:VEVENT
END:VCALENDAR