BEGIN:VCALENDAR
VERSION:2.0
PRODID:-//Ultima Online - ECPv5.16.4.1//NONSGML v1.0//EN
CALSCALE:GREGORIAN
METHOD:PUBLISH
X-WR-CALNAME:Ultima Online
X-ORIGINAL-URL:https://uo.com
X-WR-CALDESC:Events for Ultima Online
BEGIN:VTIMEZONE
TZID:America/Los_Angeles
BEGIN:DAYLIGHT
TZOFFSETFROM:-0800
TZOFFSETTO:-0700
TZNAME:PDT
DTSTART:20160313T100000
END:DAYLIGHT
BEGIN:STANDARD
TZOFFSETFROM:-0700
TZOFFSETTO:-0800
TZNAME:PST
DTSTART:20161106T090000
END:STANDARD
TZID:America/New_York
BEGIN:DAYLIGHT
TZOFFSETFROM:-0500
TZOFFSETTO:-0400
TZNAME:EDT
DTSTART:20160313T070000
END:DAYLIGHT
BEGIN:STANDARD
TZOFFSETFROM:-0400
TZOFFSETTO:-0500
TZNAME:EST
DTSTART:20161106T060000
END:STANDARD
END:VTIMEZONE
BEGIN:VEVENT
DTSTART;TZID=America/Los_Angeles:20160118T190000
DTEND;TZID=America/Los_Angeles:20160118T200000
DTSTAMP:20260423T152537
CREATED:20160112T224848Z
LAST-MODIFIED:20160112T225233Z
UID:8655-1453143600-1453147200@uo.com
SUMMARY:Napa Valley - "Missing"
DESCRIPTION:
URL:https://uo.com/event/napa-valley-missing/
LOCATION:Blackthorn’s Castle Courtyard
CATEGORIES:EM Event
END:VEVENT
BEGIN:VEVENT
DTSTART;TZID=America/New_York:20160118T200000
DTEND;TZID=America/New_York:20160118T220000
DTSTAMP:20260423T152537
CREATED:20160101T112343Z
LAST-MODIFIED:20160113T185351Z
UID:8526-1453147200-1453154400@uo.com
SUMMARY:Lake Superior **The Vondonts**
DESCRIPTION:Moonglow is not what its used to be. the Vondonts have moved in and don’t seem like there going anywhere.  Meet Michael Crawford at BT castle for further instructions.
URL:https://uo.com/event/lake-superior-the-vondonts/
LOCATION:Moonglow Governors office
CATEGORIES:EM Event
END:VEVENT
BEGIN:VEVENT
DTSTART;TZID=America/New_York:20160118T200000
DTEND;TZID=America/New_York:20160118T210000
DTSTAMP:20260423T152537
CREATED:20160106T201237Z
LAST-MODIFIED:20160106T201237Z
UID:8573-1453147200-1453150800@uo.com
SUMMARY:Lake Superior The VonDonts Move into Moonglow 8pm EST
DESCRIPTION:the Town of Moonglow has no Governor. The VonDonts are trying to take Control of the town and power from the King……Meet at the Moonglow Governors office and VOTE!!!!
URL:https://uo.com/event/lake-superior-the-vondonts-move-into-moonglow-8pm-est/
LOCATION:Lake Superior
CATEGORIES:EM Event
END:VEVENT
BEGIN:VEVENT
DTSTART;TZID=America/New_York:20160118T200000
DTEND;TZID=America/New_York:20160118T210000
DTSTAMP:20260423T152537
CREATED:20160108T200905Z
LAST-MODIFIED:20160108T200905Z
UID:8580-1453147200-1453150800@uo.com
SUMMARY:Lake Superior ***The Special Election of Moonglow**** 8pmEST
DESCRIPTION:The King has asked that Valerie VonDont\, Sir Annoyed\, Vladislaw\, Bodhishua\, FastCast\, and Kurgan report to the Moonglow Governors office for a special election. All candidates will prepare a speech and why they should be elected Governor of Moonglow.
URL:https://uo.com/event/lake-superior-the-special-election-of-moonglow-8pmest/
LOCATION:Moonglow Governors office
CATEGORIES:EM Event
END:VEVENT
END:VCALENDAR