BEGIN:VCALENDAR
VERSION:2.0
PRODID:-//Ultima Online - ECPv5.16.4.1//NONSGML v1.0//EN
CALSCALE:GREGORIAN
METHOD:PUBLISH
X-WR-CALNAME:Ultima Online
X-ORIGINAL-URL:https://uo.com
X-WR-CALDESC:Events for Ultima Online
BEGIN:VTIMEZONE
TZID:America/Los_Angeles
BEGIN:DAYLIGHT
TZOFFSETFROM:-0800
TZOFFSETTO:-0700
TZNAME:PDT
DTSTART:20160313T100000
END:DAYLIGHT
BEGIN:STANDARD
TZOFFSETFROM:-0700
TZOFFSETTO:-0800
TZNAME:PST
DTSTART:20161106T090000
END:STANDARD
TZID:Asia/Tokyo
BEGIN:STANDARD
TZOFFSETFROM:+0900
TZOFFSETTO:+0900
TZNAME:JST
DTSTART:20160101T000000
END:STANDARD
END:VTIMEZONE
BEGIN:VEVENT
DTSTART;TZID=America/Los_Angeles:20160122T190000
DTEND;TZID=America/Los_Angeles:20160122T200000
DTSTAMP:20260423T151134
CREATED:20160119T043331Z
LAST-MODIFIED:20160119T043331Z
UID:8754-1453489200-1453492800@uo.com
SUMMARY:Origin ~ Have Gear Will Travel – Mission 7 – The Lost Lands Monster *Felucca*
DESCRIPTION:
URL:https://uo.com/event/origin-have-gear-will-travel-mission-7-the-lost-lands-monster-felucca/
LOCATION:Origin
CATEGORIES:EM Event
END:VEVENT
BEGIN:VEVENT
DTSTART;TZID=Asia/Tokyo:20160122T220000
DTEND;TZID=Asia/Tokyo:20160122T220000
DTSTAMP:20260423T151134
CREATED:20160115T095323Z
LAST-MODIFIED:20160115T095323Z
UID:8682-1453500000-1453500000@uo.com
SUMMARY:Sakura - “Save the Hot Spring”
DESCRIPTION:TBD \nplease check Sakura EM website.
URL:https://uo.com/event/sakura-save-the-hot-spring/
LOCATION:Sakura – EM Hall\, Japan
CATEGORIES:EM Event
END:VEVENT
END:VCALENDAR