BEGIN:VCALENDAR
VERSION:2.0
PRODID:-//Ultima Online - ECPv5.16.4.1//NONSGML v1.0//EN
CALSCALE:GREGORIAN
METHOD:PUBLISH
X-WR-CALNAME:Ultima Online
X-ORIGINAL-URL:https://uo.com
X-WR-CALDESC:Events for Ultima Online
BEGIN:VTIMEZONE
TZID:America/Los_Angeles
BEGIN:DAYLIGHT
TZOFFSETFROM:-0800
TZOFFSETTO:-0700
TZNAME:PDT
DTSTART:20160313T100000
END:DAYLIGHT
BEGIN:STANDARD
TZOFFSETFROM:-0700
TZOFFSETTO:-0800
TZNAME:PST
DTSTART:20161106T090000
END:STANDARD
TZID:Asia/Taipei
BEGIN:STANDARD
TZOFFSETFROM:+0800
TZOFFSETTO:+0800
TZNAME:CST
DTSTART:20160101T000000
END:STANDARD
END:VTIMEZONE
BEGIN:VEVENT
DTSTART;TZID=America/Los_Angeles:20160125T190000
DTEND;TZID=America/Los_Angeles:20160125T200000
DTSTAMP:20260423T152731
CREATED:20160112T224944Z
LAST-MODIFIED:20160112T225158Z
UID:8656-1453748400-1453752000@uo.com
SUMMARY:Napa Valley - "Wrath Of The Pig King"
DESCRIPTION:
URL:https://uo.com/event/napa-valley-wrath-of-the-pig-king/
LOCATION:Blackthorn’s Castle Courtyard
CATEGORIES:EM Event
END:VEVENT
BEGIN:VEVENT
DTSTART;TZID=Asia/Taipei:20160125T220000
DTEND;TZID=Asia/Taipei:20160125T230000
DTSTAMP:20260423T152731
CREATED:20160114T194811Z
LAST-MODIFIED:20160114T194811Z
UID:8680-1453759200-1453762800@uo.com
SUMMARY:Formosa The Council Meeting with the King
DESCRIPTION:At King Blackthorn Castle
URL:https://uo.com/event/formosa-the-council-meeting-with-the-king/
LOCATION:Formosa Britain EM Hall
CATEGORIES:EM Event
END:VEVENT
END:VCALENDAR