BEGIN:VCALENDAR
VERSION:2.0
PRODID:-//Ultima Online - ECPv5.16.4.1//NONSGML v1.0//EN
CALSCALE:GREGORIAN
METHOD:PUBLISH
X-WR-CALNAME:Ultima Online
X-ORIGINAL-URL:https://uo.com
X-WR-CALDESC:Events for Ultima Online
BEGIN:VTIMEZONE
TZID:Australia/Sydney
BEGIN:STANDARD
TZOFFSETFROM:+1100
TZOFFSETTO:+1000
TZNAME:AEST
DTSTART:20160402T160000
END:STANDARD
BEGIN:DAYLIGHT
TZOFFSETFROM:+1000
TZOFFSETTO:+1100
TZNAME:AEDT
DTSTART:20161001T160000
END:DAYLIGHT
TZID:America/Los_Angeles
BEGIN:DAYLIGHT
TZOFFSETFROM:-0800
TZOFFSETTO:-0700
TZNAME:PDT
DTSTART:20160313T100000
END:DAYLIGHT
BEGIN:STANDARD
TZOFFSETFROM:-0700
TZOFFSETTO:-0800
TZNAME:PST
DTSTART:20161106T090000
END:STANDARD
TZID:America/New_York
BEGIN:DAYLIGHT
TZOFFSETFROM:-0500
TZOFFSETTO:-0400
TZNAME:EDT
DTSTART:20160313T070000
END:DAYLIGHT
BEGIN:STANDARD
TZOFFSETFROM:-0400
TZOFFSETTO:-0500
TZNAME:EST
DTSTART:20161106T060000
END:STANDARD
END:VTIMEZONE
BEGIN:VEVENT
DTSTART;TZID=Australia/Sydney:20160128T180000
DTEND;TZID=Australia/Sydney:20160128T190000
DTSTAMP:20260423T151026
CREATED:20160128T230026Z
LAST-MODIFIED:20160127T195052Z
UID:8661-1454004000-1454007600@uo.com
SUMMARY:Oceania\, Shan's year of reflection...
DESCRIPTION:Come to the counsel hall and celebrate 13 months of fun\, sun\, friends\, death\, etc.. Did I mention death?
URL:https://uo.com/event/oceania-shans-year-of-reflection/
CATEGORIES:EM Event
END:VEVENT
BEGIN:VEVENT
DTSTART;TZID=America/Los_Angeles:20160128T190000
DTEND;TZID=America/Los_Angeles:20160128T200000
DTSTAMP:20260423T151026
CREATED:20160112T072154Z
LAST-MODIFIED:20160112T223946Z
UID:8646-1454007600-1454011200@uo.com
SUMMARY:Pacific - "Can't See The Forest For The Tree's"
DESCRIPTION:
URL:https://uo.com/event/cant-see-the-forest-for-the-trees/
LOCATION:Castle Blackthorn Courtyard
CATEGORIES:EM Event
END:VEVENT
BEGIN:VEVENT
DTSTART;TZID=America/New_York:20160128T200000
DTEND;TZID=America/New_York:20160128T210000
DTSTAMP:20260423T151026
CREATED:20160109T000020Z
LAST-MODIFIED:20160109T000020Z
UID:8595-1454011200-1454014800@uo.com
SUMMARY:Atlantic - "Time Rip"
DESCRIPTION:
URL:https://uo.com/event/atlantic-time-rip/
LOCATION:Blackthorn’s Castle Courtyard
CATEGORIES:EM Event
END:VEVENT
END:VCALENDAR