BEGIN:VCALENDAR
VERSION:2.0
PRODID:-//Ultima Online - ECPv5.16.4.1//NONSGML v1.0//EN
CALSCALE:GREGORIAN
METHOD:PUBLISH
X-WR-CALNAME:Ultima Online
X-ORIGINAL-URL:https://uo.com
X-WR-CALDESC:Events for Ultima Online
BEGIN:VTIMEZONE
TZID:America/Los_Angeles
BEGIN:DAYLIGHT
TZOFFSETFROM:-0800
TZOFFSETTO:-0700
TZNAME:PDT
DTSTART:20160313T100000
END:DAYLIGHT
BEGIN:STANDARD
TZOFFSETFROM:-0700
TZOFFSETTO:-0800
TZNAME:PST
DTSTART:20161106T090000
END:STANDARD
TZID:America/New_York
BEGIN:DAYLIGHT
TZOFFSETFROM:-0500
TZOFFSETTO:-0400
TZNAME:EDT
DTSTART:20160313T070000
END:DAYLIGHT
BEGIN:STANDARD
TZOFFSETFROM:-0400
TZOFFSETTO:-0500
TZNAME:EST
DTSTART:20161106T060000
END:STANDARD
TZID:Europe/Berlin
BEGIN:DAYLIGHT
TZOFFSETFROM:+0100
TZOFFSETTO:+0200
TZNAME:CEST
DTSTART:20160327T010000
END:DAYLIGHT
BEGIN:STANDARD
TZOFFSETFROM:+0200
TZOFFSETTO:+0100
TZNAME:CET
DTSTART:20161030T010000
END:STANDARD
TZID:Asia/Tokyo
BEGIN:STANDARD
TZOFFSETFROM:+0900
TZOFFSETTO:+0900
TZNAME:JST
DTSTART:20160101T000000
END:STANDARD
END:VTIMEZONE
BEGIN:VEVENT
DTSTART;TZID=America/Los_Angeles:20160211T190000
DTEND;TZID=America/Los_Angeles:20160211T200000
DTSTAMP:20260423T134644
CREATED:20160130T133654Z
LAST-MODIFIED:20160204T231510Z
UID:8920-1455217200-1455220800@uo.com
SUMMARY:“Two souls with but a single thought\, two hearts that beat as one” (Pacific)
DESCRIPTION:
URL:https://uo.com/event/two-souls-with-but-a-single-thought-two-hearts-that-beat-as-one-pacific/
LOCATION:Castle Blackthorn Courtyard
CATEGORIES:EM Event
END:VEVENT
BEGIN:VEVENT
DTSTART;TZID=America/New_York:20160211T200000
DTEND;TZID=America/New_York:20160211T210000
DTSTAMP:20260423T134644
CREATED:20160204T231711Z
LAST-MODIFIED:20160204T231711Z
UID:9007-1455220800-1455224400@uo.com
SUMMARY:Atlantic - "The Hunt"
DESCRIPTION:
URL:https://uo.com/event/atlantic-the-hunt/
LOCATION:Castle Blackthorn Courtyard
CATEGORIES:EM Event
END:VEVENT
BEGIN:VEVENT
DTSTART;TZID=Europe/Berlin:20160211T203000
DTEND;TZID=Europe/Berlin:20160211T220000
DTSTAMP:20260423T134644
CREATED:20160131T210444Z
LAST-MODIFIED:20160131T212147Z
UID:8939-1455222600-1455228000@uo.com
SUMMARY:Drachenfels: Game Night | Spielabend
DESCRIPTION:Time: 8:30pm CET (UTC+1).  Location: Woods near Britain Moongate\, Trammel.\nGame Night with a Mini Event of LUDO!\nUse public moongates at WBB\, Luna or New Haven. \nZeit: 20:30 Uhr CET (UTC+1). Ort: Wald in der Nähe vom Britain Mondtor\, Trammel.\nSpielabend mit einem Mini Event von Mensch Ärgere Dich Nicht!\nBenutzt die öffentlichen Mondtore an der WBB\, Luna oder New Haven.
URL:https://uo.com/event/drachenfels-game-night-spielabend/
LOCATION:Drachenfels
CATEGORIES:EM Event
END:VEVENT
BEGIN:VEVENT
DTSTART;TZID=Asia/Tokyo:20160211T220000
DTEND;TZID=Asia/Tokyo:20160211T230000
DTSTAMP:20260423T134644
CREATED:20160201T105724Z
LAST-MODIFIED:20160201T105724Z
UID:8947-1455228000-1455231600@uo.com
SUMMARY:Sakura - Our funny Valentine 2
DESCRIPTION:TBD
URL:https://uo.com/event/sakura-our-funny-valentine-2/
LOCATION:Sakura – EM Hall\, Japan
CATEGORIES:EM Event
END:VEVENT
END:VCALENDAR