BEGIN:VCALENDAR
VERSION:2.0
PRODID:-//Ultima Online - ECPv5.16.4.1//NONSGML v1.0//EN
CALSCALE:GREGORIAN
METHOD:PUBLISH
X-WR-CALNAME:Ultima Online
X-ORIGINAL-URL:https://uo.com
X-WR-CALDESC:Events for Ultima Online
BEGIN:VTIMEZONE
TZID:America/New_York
BEGIN:DAYLIGHT
TZOFFSETFROM:-0500
TZOFFSETTO:-0400
TZNAME:EDT
DTSTART:20160313T070000
END:DAYLIGHT
BEGIN:STANDARD
TZOFFSETFROM:-0400
TZOFFSETTO:-0500
TZNAME:EST
DTSTART:20161106T060000
END:STANDARD
TZID:America/Los_Angeles
BEGIN:DAYLIGHT
TZOFFSETFROM:-0800
TZOFFSETTO:-0700
TZNAME:PDT
DTSTART:20160313T100000
END:DAYLIGHT
BEGIN:STANDARD
TZOFFSETFROM:-0700
TZOFFSETTO:-0800
TZNAME:PST
DTSTART:20161106T090000
END:STANDARD
END:VTIMEZONE
BEGIN:VEVENT
DTSTART;TZID=America/New_York:20160218T070000
DTEND;TZID=America/New_York:20160218T210000
DTSTAMP:20260423T135303
CREATED:20160201T061147Z
LAST-MODIFIED:20160201T061147Z
UID:8945-1455778800-1455829200@uo.com
SUMMARY:**Lake Superior** Kings Meeting 7pm EST BT Castle
DESCRIPTION:King has called a meeting of all his Governors.
URL:https://uo.com/event/lake-superior-kings-meeting-7pm-est-bt-castle/
LOCATION:BT Castle\, Brit
CATEGORIES:EM Event
END:VEVENT
BEGIN:VEVENT
DTSTART;TZID=America/Los_Angeles:20160218T190000
DTEND;TZID=America/Los_Angeles:20160218T200000
DTSTAMP:20260423T135303
CREATED:20160130T133802Z
LAST-MODIFIED:20160204T231453Z
UID:8921-1455822000-1455825600@uo.com
SUMMARY:"I have nothing more to give you than my heart" (Pacific)
DESCRIPTION:
URL:https://uo.com/event/i-have-nothing-more-to-give-you-than-my-hear-pacific/
LOCATION:Castle Blackthorn Courtyard
CATEGORIES:EM Event
END:VEVENT
BEGIN:VEVENT
DTSTART;TZID=America/New_York:20160218T200000
DTEND;TZID=America/New_York:20160218T210000
DTSTAMP:20260423T135303
CREATED:20160204T231908Z
LAST-MODIFIED:20160204T231908Z
UID:9009-1455825600-1455829200@uo.com
SUMMARY:Atlantic - "A Curious Remembrance"
DESCRIPTION:
URL:https://uo.com/event/atlantic-a-curious-remembrance/
LOCATION:Castle Blackthorn Courtyard
CATEGORIES:EM Event
END:VEVENT
END:VCALENDAR