BEGIN:VCALENDAR
VERSION:2.0
PRODID:-//Ultima Online - ECPv5.16.4.1//NONSGML v1.0//EN
CALSCALE:GREGORIAN
METHOD:PUBLISH
X-WR-CALNAME:Ultima Online
X-ORIGINAL-URL:https://uo.com
X-WR-CALDESC:Events for Ultima Online
BEGIN:VTIMEZONE
TZID:America/New_York
BEGIN:DAYLIGHT
TZOFFSETFROM:-0500
TZOFFSETTO:-0400
TZNAME:EDT
DTSTART:20160313T070000
END:DAYLIGHT
BEGIN:STANDARD
TZOFFSETFROM:-0400
TZOFFSETTO:-0500
TZNAME:EST
DTSTART:20161106T060000
END:STANDARD
TZID:Asia/Tokyo
BEGIN:STANDARD
TZOFFSETFROM:+0900
TZOFFSETTO:+0900
TZNAME:JST
DTSTART:20160101T000000
END:STANDARD
END:VTIMEZONE
BEGIN:VEVENT
DTSTART;TZID=America/New_York:20160220T153000
DTEND;TZID=America/New_York:20160220T170000
DTSTAMP:20260423T134432
CREATED:20160217T024910Z
LAST-MODIFIED:20160217T024910Z
UID:9062-1455982200-1455987600@uo.com
SUMMARY:Siege  - " Roes Collector Quest"
DESCRIPTION:Roes has returned\, like with the Hag she is  asking for help with retrieving an item from the “The Collector Quest”.    If you have never done it before or havn’t done it in many years\, join her this Saturday. \nThe Collector Quest
URL:https://uo.com/event/siege-roes-collector-quest/
LOCATION:Siege Perilous
CATEGORIES:EM Event
END:VEVENT
BEGIN:VEVENT
DTSTART;TZID=Asia/Tokyo:20160220T220000
DTEND;TZID=Asia/Tokyo:20160220T230000
DTSTAMP:20260423T134432
CREATED:20160131T100031Z
LAST-MODIFIED:20160131T100031Z
UID:8927-1456005600-1456009200@uo.com
SUMMARY:Wakoku – The Council Meeting
DESCRIPTION:Location : Castle Blackthorn
URL:https://uo.com/event/wakoku-the-council-meeting-4/
LOCATION:Wakoku
CATEGORIES:EM Event
END:VEVENT
END:VCALENDAR