BEGIN:VCALENDAR
VERSION:2.0
PRODID:-//Ultima Online - ECPv5.16.4.1//NONSGML v1.0//EN
CALSCALE:GREGORIAN
METHOD:PUBLISH
X-WR-CALNAME:Ultima Online
X-ORIGINAL-URL:https://uo.com
X-WR-CALDESC:Events for Ultima Online
BEGIN:VTIMEZONE
TZID:Asia/Tokyo
BEGIN:STANDARD
TZOFFSETFROM:+0900
TZOFFSETTO:+0900
TZNAME:JST
DTSTART:20160101T000000
END:STANDARD
TZID:America/Los_Angeles
BEGIN:DAYLIGHT
TZOFFSETFROM:-0800
TZOFFSETTO:-0700
TZNAME:PDT
DTSTART:20160313T100000
END:DAYLIGHT
BEGIN:STANDARD
TZOFFSETFROM:-0700
TZOFFSETTO:-0800
TZNAME:PST
DTSTART:20161106T090000
END:STANDARD
TZID:Europe/Berlin
BEGIN:DAYLIGHT
TZOFFSETFROM:+0100
TZOFFSETTO:+0200
TZNAME:CEST
DTSTART:20160327T010000
END:DAYLIGHT
BEGIN:STANDARD
TZOFFSETFROM:+0200
TZOFFSETTO:+0100
TZNAME:CET
DTSTART:20161030T010000
END:STANDARD
TZID:Asia/Seoul
BEGIN:STANDARD
TZOFFSETFROM:+0900
TZOFFSETTO:+0900
TZNAME:KST
DTSTART:20160101T000000
END:STANDARD
END:VTIMEZONE
BEGIN:VEVENT
DTSTART;TZID=Asia/Tokyo:20160221T100000
DTEND;TZID=Asia/Tokyo:20160221T230000
DTSTAMP:20260423T134410
CREATED:20160201T110739Z
LAST-MODIFIED:20160201T110739Z
UID:8949-1456048800-1456095600@uo.com
SUMMARY:Sakura - The Council Meeting with the King
DESCRIPTION:Monthly held council meeting with King Blackthorn.\nEveryone are invited.
URL:https://uo.com/event/sakura-the-council-meeting-with-the-king-2/
LOCATION:Castle Blackthorn
CATEGORIES:EM Event
END:VEVENT
BEGIN:VEVENT
DTSTART;TZID=America/Los_Angeles:20160221T180000
DTEND;TZID=America/Los_Angeles:20160221T183000
DTSTAMP:20260423T134410
CREATED:20160217T144350Z
LAST-MODIFIED:20160217T144403Z
UID:9066-1456077600-1456079400@uo.com
SUMMARY:Origin ~ Meeting with King Blackthorn
DESCRIPTION:
URL:https://uo.com/event/origin-meeting-with-king-blackthorn-4/
LOCATION:Origin
CATEGORIES:EM Event
END:VEVENT
BEGIN:VEVENT
DTSTART;TZID=America/Los_Angeles:20160221T183000
DTEND;TZID=America/Los_Angeles:20160221T193000
DTSTAMP:20260423T134410
CREATED:20160217T144709Z
LAST-MODIFIED:20160217T144709Z
UID:9067-1456079400-1456083000@uo.com
SUMMARY:Origin ~ O.R.G. Boot Camp VIII (WS II)
DESCRIPTION:
URL:https://uo.com/event/origin-o-r-g-boot-camp-viii-ws-ii/
LOCATION:Origin
CATEGORIES:EM Event
END:VEVENT
BEGIN:VEVENT
DTSTART;TZID=Europe/Berlin:20160221T203000
DTEND;TZID=Europe/Berlin:20160221T220000
DTSTAMP:20260423T134410
CREATED:20160131T210921Z
LAST-MODIFIED:20160131T210921Z
UID:8940-1456086600-1456092000@uo.com
SUMMARY:Drachenfels: Up and Away\, Part II | Auf und Davon\, Teil II
DESCRIPTION:Time: 8:30pm CET (UTC+1). Location: Counselor’s Hall\, Britain\, Trammel.\nMain Event: Up and Away\, Part II. \nZeit: 20:30 Uhr CET (UTC+1). Ort: Counselor’s Hall\, Britain\, Trammel.\nHaupt Event: Auf und Davon\, Teil II.
URL:https://uo.com/event/drachenfels-up-and-away-part-ii-auf-und-davon-teil-ii/
LOCATION:Drachenfels
CATEGORIES:EM Event
END:VEVENT
BEGIN:VEVENT
DTSTART;TZID=Asia/Seoul:20160221T210000
DTEND;TZID=Asia/Seoul:20160221T230000
DTSTAMP:20260423T134410
CREATED:20160220T090105Z
LAST-MODIFIED:20160220T090105Z
UID:9117-1456088400-1456095600@uo.com
SUMMARY:Balhae Archery Event 2016
DESCRIPTION:Balhae EM Hall
URL:https://uo.com/event/balhae-archery-event-2016/
LOCATION:Balhae EM Britain Hall
CATEGORIES:EM Event
END:VEVENT
BEGIN:VEVENT
DTSTART;TZID=Asia/Tokyo:20160221T220000
DTEND;TZID=Asia/Tokyo:20160221T220000
DTSTAMP:20260423T134410
CREATED:20160120T151713Z
LAST-MODIFIED:20160120T151713Z
UID:8788-1456092000-1456092000@uo.com
SUMMARY:Yamato - The Council Meeting with the King
DESCRIPTION:The King invites all Governors and Citizens to the Council Meeting.\n*Please note this meeting requires everyone is “in-character”\, and thus roleplay is expected of all who attend.
URL:https://uo.com/event/yamato-the-council-meeting-with-the-king-5/
LOCATION:Castle Blackthorn
CATEGORIES:EM Event
END:VEVENT
END:VCALENDAR