BEGIN:VCALENDAR
VERSION:2.0
PRODID:-//Ultima Online - ECPv5.16.4.1//NONSGML v1.0//EN
CALSCALE:GREGORIAN
METHOD:PUBLISH
X-WR-CALNAME:Ultima Online
X-ORIGINAL-URL:https://uo.com
X-WR-CALDESC:Events for Ultima Online
BEGIN:VTIMEZONE
TZID:America/New_York
BEGIN:DAYLIGHT
TZOFFSETFROM:-0500
TZOFFSETTO:-0400
TZNAME:EDT
DTSTART:20160313T070000
END:DAYLIGHT
BEGIN:STANDARD
TZOFFSETFROM:-0400
TZOFFSETTO:-0500
TZNAME:EST
DTSTART:20161106T060000
END:STANDARD
TZID:America/Los_Angeles
BEGIN:DAYLIGHT
TZOFFSETFROM:-0800
TZOFFSETTO:-0700
TZNAME:PDT
DTSTART:20160313T100000
END:DAYLIGHT
BEGIN:STANDARD
TZOFFSETFROM:-0700
TZOFFSETTO:-0800
TZNAME:PST
DTSTART:20161106T090000
END:STANDARD
TZID:Asia/Seoul
BEGIN:STANDARD
TZOFFSETFROM:+0900
TZOFFSETTO:+0900
TZNAME:KST
DTSTART:20160101T000000
END:STANDARD
TZID:Asia/Tokyo
BEGIN:STANDARD
TZOFFSETFROM:+0900
TZOFFSETTO:+0900
TZNAME:JST
DTSTART:20160101T000000
END:STANDARD
END:VTIMEZONE
BEGIN:VEVENT
DTSTART;TZID=America/New_York:20160227T153000
DTEND;TZID=America/New_York:20160227T170000
DTSTAMP:20260423T135345
CREATED:20160217T025124Z
LAST-MODIFIED:20160217T025124Z
UID:9063-1456587000-1456592400@uo.com
SUMMARY:Siege  -  The Thunder Beast
DESCRIPTION:Thunderstorms have been raging heavy over the islands of Tokuno. \nThe citizens of Zento have been losing sleep since the storms and the nightmares that came with them. The rain falls heavily night and day and the thunder grows louder with each passing day. \nA wise man\, who has just returned from the his first trip to Malas\, was staying at the inn in Zento. The storms reminded him of a story that he heard long ago of an imprisoned RaiJin. As the storms increased\, he thought it best to seek help to investigate the prison holding the spirit.
URL:https://uo.com/event/siege-the-thunder-beast/
LOCATION:Siege Perilous
CATEGORIES:EM Event
END:VEVENT
BEGIN:VEVENT
DTSTART;TZID=America/Los_Angeles:20160227T190000
DTEND;TZID=America/Los_Angeles:20160227T190000
DTSTAMP:20260423T135345
CREATED:20160224T143711Z
LAST-MODIFIED:20160227T015314Z
UID:9134-1456599600-1456599600@uo.com
SUMMARY:The Last Hoorah
DESCRIPTION:Meet West Britain Bank
URL:https://uo.com/event/the-last-hoorah/
LOCATION:Baja
CATEGORIES:EM Event
END:VEVENT
BEGIN:VEVENT
DTSTART;TZID=Asia/Seoul:20160227T200000
DTEND;TZID=Asia/Seoul:20160227T210000
DTSTAMP:20260423T135345
CREATED:20160221T082238Z
LAST-MODIFIED:20160221T082752Z
UID:9120-1456603200-1456606800@uo.com
SUMMARY:Arirang - Wisdom of the Meers
DESCRIPTION:  \nBlack Weep incident was not over yet. Yew moongate is still in danger\, and Sir Dupre wants to figure out how to get rid of them! Join us in Britain EM Hall at 8PM KST and seek further information from http://www.ultimaonline.kr!
URL:https://uo.com/event/arirang-wisdom-of-the-meers/
LOCATION:Arirang
CATEGORIES:EM Event
END:VEVENT
BEGIN:VEVENT
DTSTART;TZID=Asia/Tokyo:20160227T210000
DTEND;TZID=Asia/Tokyo:20160227T210000
DTSTAMP:20260423T135345
CREATED:20160120T153405Z
LAST-MODIFIED:20160120T153405Z
UID:8791-1456606800-1456606800@uo.com
SUMMARY:Yamato - Girls' day event 2016
DESCRIPTION:Come and join us celebrating Japanese traditional girls’ day night!
URL:https://uo.com/event/yamato-girls-day-event-2016/
LOCATION:TBD
CATEGORIES:EM Event
END:VEVENT
BEGIN:VEVENT
DTSTART;TZID=Asia/Tokyo:20160227T214500
DTEND;TZID=Asia/Tokyo:20160227T214500
DTSTAMP:20260423T135345
CREATED:20160120T153551Z
LAST-MODIFIED:20160120T153551Z
UID:8792-1456609500-1456609500@uo.com
SUMMARY:Sakura - Girls' day event 2016
DESCRIPTION:Come and join us celebrating Japanese traditional girls’ day night!
URL:https://uo.com/event/sakura-girls-day-event-2016/
LOCATION:TBD
CATEGORIES:EM Event
END:VEVENT
END:VCALENDAR