BEGIN:VCALENDAR
VERSION:2.0
PRODID:-//Ultima Online - ECPv5.16.4.1//NONSGML v1.0//EN
CALSCALE:GREGORIAN
METHOD:PUBLISH
X-WR-CALNAME:Ultima Online
X-ORIGINAL-URL:https://uo.com
X-WR-CALDESC:Events for Ultima Online
BEGIN:VTIMEZONE
TZID:Asia/Tokyo
BEGIN:STANDARD
TZOFFSETFROM:+0900
TZOFFSETTO:+0900
TZNAME:JST
DTSTART:20160101T000000
END:STANDARD
TZID:America/New_York
BEGIN:DAYLIGHT
TZOFFSETFROM:-0500
TZOFFSETTO:-0400
TZNAME:EDT
DTSTART:20160313T070000
END:DAYLIGHT
BEGIN:STANDARD
TZOFFSETFROM:-0400
TZOFFSETTO:-0500
TZNAME:EST
DTSTART:20161106T060000
END:STANDARD
TZID:America/Los_Angeles
BEGIN:DAYLIGHT
TZOFFSETFROM:-0800
TZOFFSETTO:-0700
TZNAME:PDT
DTSTART:20160313T100000
END:DAYLIGHT
BEGIN:STANDARD
TZOFFSETFROM:-0700
TZOFFSETTO:-0800
TZNAME:PST
DTSTART:20161106T090000
END:STANDARD
TZID:Europe/Berlin
BEGIN:DAYLIGHT
TZOFFSETFROM:+0100
TZOFFSETTO:+0200
TZNAME:CEST
DTSTART:20160327T010000
END:DAYLIGHT
BEGIN:STANDARD
TZOFFSETFROM:+0200
TZOFFSETTO:+0100
TZNAME:CET
DTSTART:20161030T010000
END:STANDARD
TZID:Asia/Seoul
BEGIN:STANDARD
TZOFFSETFROM:+0900
TZOFFSETTO:+0900
TZNAME:KST
DTSTART:20160101T000000
END:STANDARD
END:VTIMEZONE
BEGIN:VEVENT
DTSTART;TZID=Asia/Tokyo:20160228T110000
DTEND;TZID=Asia/Tokyo:20160228T170000
DTSTAMP:20260423T135231
CREATED:20160131T100219Z
LAST-MODIFIED:20160131T100219Z
UID:8928-1456657200-1456678800@uo.com
SUMMARY:Wakoku - Girls' day event 2016
DESCRIPTION:TBD
URL:https://uo.com/event/wakoku-girls-day-event-2016/
LOCATION:Wakoku
CATEGORIES:EM Event
END:VEVENT
BEGIN:VEVENT
DTSTART;TZID=America/New_York:20160228T153000
DTEND;TZID=America/New_York:20160228T163000
DTSTAMP:20260423T135231
CREATED:20160217T025347Z
LAST-MODIFIED:20160217T025347Z
UID:9065-1456673400-1456677000@uo.com
SUMMARY:Siege - Governor's King's Meeting
DESCRIPTION:Monthly meeting with King Blackthorn for all Governors.  If your unable to attend please have someone represent your city at the meeting. \n 
URL:https://uo.com/event/siege-governors-kings-meeting/
LOCATION:Siege Perilous
CATEGORIES:EM Event
END:VEVENT
BEGIN:VEVENT
DTSTART;TZID=America/Los_Angeles:20160228T170000
DTEND;TZID=America/Los_Angeles:20160228T180000
DTSTAMP:20260423T135231
CREATED:20160204T232809Z
LAST-MODIFIED:20160204T232809Z
UID:9014-1456678800-1456682400@uo.com
SUMMARY:Napa Valley - "Governor's Meeting"
DESCRIPTION:
URL:https://uo.com/event/napa-valley-governors-meeting-3/
LOCATION:Council Chambers in Castle Blackthorn
CATEGORIES:EM Event
END:VEVENT
BEGIN:VEVENT
DTSTART;TZID=America/New_York:20160228T200000
DTEND;TZID=America/New_York:20160228T210000
DTSTAMP:20260423T135231
CREATED:20160129T081008Z
LAST-MODIFIED:20160129T082351Z
UID:8909-1456689600-1456693200@uo.com
SUMMARY:***Lake Superior*** The Ultimate Maze
DESCRIPTION:test your Skills in EM Chance’s MAZE…….
URL:https://uo.com/event/lake-superior-the-ls-groundhog/
LOCATION:BT Castle\, Brit
CATEGORIES:EM Event
END:VEVENT
BEGIN:VEVENT
DTSTART;TZID=America/New_York:20160228T200000
DTEND;TZID=America/New_York:20160228T210000
DTSTAMP:20260423T135231
CREATED:20160204T232117Z
LAST-MODIFIED:20160204T232117Z
UID:9010-1456689600-1456693200@uo.com
SUMMARY:Atlantic - "Conseil du Roi"
DESCRIPTION:
URL:https://uo.com/event/atlantic-conseil-du-roi-2/
LOCATION:Council Chambers in Castle Blackthorn
CATEGORIES:EM Event
END:VEVENT
BEGIN:VEVENT
DTSTART;TZID=Europe/Berlin:20160228T203000
DTEND;TZID=Europe/Berlin:20160228T220000
DTSTAMP:20260423T135231
CREATED:20160131T213055Z
LAST-MODIFIED:20160131T213055Z
UID:8942-1456691400-1456696800@uo.com
SUMMARY:Drachenfels: Royal Audience | Königliche Audienz
DESCRIPTION:Time: 8:30pm CET (UTC+1). Location: Castle Blackthorn\, throne room\, Britain\, Trammel.\nRoyal Audience and afterwards a HoF Mission. \nZeit: 20:30 Uhr CET (UTC+1). Ort: Castle Blackthorn\, Thronsaal\, Britain\, Trammel.\nKönigliche Audienz und danach eine HoF Mission.
URL:https://uo.com/event/drachenfels-royal-audience-konigliche-audienz-3/
LOCATION:Drachenfels
CATEGORIES:EM Event
END:VEVENT
BEGIN:VEVENT
DTSTART;TZID=Asia/Seoul:20160228T210000
DTEND;TZID=Asia/Seoul:20160228T230000
DTSTAMP:20260423T135231
CREATED:20160220T090447Z
LAST-MODIFIED:20160220T090447Z
UID:9119-1456693200-1456700400@uo.com
SUMMARY:Balhae Jhelom Maiden Request
DESCRIPTION:Balhae Moongate will be provided at Luna to Buc Den.
URL:https://uo.com/event/balhae-jhelom-maiden-request/
LOCATION:Balhae\, Korea\, Republic Of
CATEGORIES:EM Event
END:VEVENT
BEGIN:VEVENT
DTSTART;TZID=Asia/Tokyo:20160228T213000
DTEND;TZID=Asia/Tokyo:20160228T221500
DTSTAMP:20260423T135231
CREATED:20160131T100330Z
LAST-MODIFIED:20160131T100330Z
UID:8929-1456695000-1456697700@uo.com
SUMMARY:Asuka - Girls' day event 2016
DESCRIPTION:TBD
URL:https://uo.com/event/asuka-girls-day-event-2016/
LOCATION:Asuka
CATEGORIES:EM Event
END:VEVENT
BEGIN:VEVENT
DTSTART;TZID=America/New_York:20160228T221500
DTEND;TZID=America/New_York:20160228T230000
DTSTAMP:20260423T135231
CREATED:20160131T100435Z
LAST-MODIFIED:20160131T100435Z
UID:8931-1456697700-1456700400@uo.com
SUMMARY:Mugen - Girls' day event 2016
DESCRIPTION:TBD
URL:https://uo.com/event/mugen-girls-day-event-2016/
LOCATION:Mugen
CATEGORIES:EM Event
END:VEVENT
END:VCALENDAR