BEGIN:VCALENDAR
VERSION:2.0
PRODID:-//Ultima Online - ECPv5.16.4.1//NONSGML v1.0//EN
CALSCALE:GREGORIAN
METHOD:PUBLISH
X-WR-CALNAME:Ultima Online
X-ORIGINAL-URL:https://uo.com
X-WR-CALDESC:Events for Ultima Online
BEGIN:VTIMEZONE
TZID:America/New_York
BEGIN:DAYLIGHT
TZOFFSETFROM:-0500
TZOFFSETTO:-0400
TZNAME:EDT
DTSTART:20160313T070000
END:DAYLIGHT
BEGIN:STANDARD
TZOFFSETFROM:-0400
TZOFFSETTO:-0500
TZNAME:EST
DTSTART:20161106T060000
END:STANDARD
TZID:America/Chicago
BEGIN:DAYLIGHT
TZOFFSETFROM:-0600
TZOFFSETTO:-0500
TZNAME:CDT
DTSTART:20160313T080000
END:DAYLIGHT
BEGIN:STANDARD
TZOFFSETFROM:-0500
TZOFFSETTO:-0600
TZNAME:CST
DTSTART:20161106T070000
END:STANDARD
END:VTIMEZONE
BEGIN:VEVENT
DTSTART;TZID=America/New_York:20160301T000000
DTEND;TZID=America/New_York:20160308T115500
DTSTAMP:20260423T123254
CREATED:20160301T212430Z
LAST-MODIFIED:20160301T212822Z
UID:9238-1456790400-1457438100@uo.com
SUMMARY:Siege - Fishing Contest Week One
DESCRIPTION:Selected Fish of the week is the Giant Samurai Fish swimming in the deep waters of Tokuno.  The dates to catch this fish will be from March 1st – March 8th. \n  \nMarch 1st – 26th is the overall fishing Tournament where the top three fish of the biggest weight wins of any fish. \n  \n 
URL:https://uo.com/event/siege-fishing-contest-week-one/
LOCATION:Siege Perilous
CATEGORIES:EM Event
END:VEVENT
BEGIN:VEVENT
DTSTART;TZID=America/Chicago:20160308T200000
DTEND;TZID=America/Chicago:20160308T200000
DTSTAMP:20260423T123254
CREATED:20160301T044859Z
LAST-MODIFIED:20160301T044859Z
UID:9170-1457467200-1457467200@uo.com
SUMMARY:Great Lakes - Royal Spy Mission
DESCRIPTION:This Royal Spy mission has the codename “Ring Quest”. To attend\, go to the Britain Counselor Hall and investigate the suit of armor.
URL:https://uo.com/event/great-lakes-royal-spy-mission-12/
LOCATION:Great Lakes – Counselor Hall
CATEGORIES:EM Event
END:VEVENT
BEGIN:VEVENT
DTSTART;TZID=America/New_York:20160308T200000
DTEND;TZID=America/New_York:20160308T210000
DTSTAMP:20260423T123254
CREATED:20160304T173437Z
LAST-MODIFIED:20160304T173437Z
UID:9315-1457467200-1457470800@uo.com
SUMMARY:****Lake Superior**** *FEL EVENT*   Escort The Bandit 8pm EST
DESCRIPTION:A bandit off the Shores of Buc’s den needs an escort….Can you help him? Meet at the Bucs den Bank at 8pm and be the ones to get him to his destination. \n  \nTHIS IS IN FEL!!!!!!!!
URL:https://uo.com/event/lake-superior-fel-event-escort-the-bandit-8pm-est/
CATEGORIES:EM Event
END:VEVENT
END:VCALENDAR