BEGIN:VCALENDAR
VERSION:2.0
PRODID:-//Ultima Online - ECPv5.16.4.1//NONSGML v1.0//EN
CALSCALE:GREGORIAN
METHOD:PUBLISH
X-WR-CALNAME:Ultima Online
X-ORIGINAL-URL:https://uo.com
X-WR-CALDESC:Events for Ultima Online
BEGIN:VTIMEZONE
TZID:America/New_York
BEGIN:DAYLIGHT
TZOFFSETFROM:-0500
TZOFFSETTO:-0400
TZNAME:EDT
DTSTART:20160313T070000
END:DAYLIGHT
BEGIN:STANDARD
TZOFFSETFROM:-0400
TZOFFSETTO:-0500
TZNAME:EST
DTSTART:20161106T060000
END:STANDARD
END:VTIMEZONE
BEGIN:VEVENT
DTSTART;TZID=America/New_York:20160309T000500
DTEND;TZID=America/New_York:20160316T235500
DTSTAMP:20260423T123401
CREATED:20160301T212721Z
LAST-MODIFIED:20160301T212844Z
UID:9240-1457481900-1458172500@uo.com
SUMMARY:Siege - Fishing Contest Week Two
DESCRIPTION:The week two fish will be caught on the dates of March 9th – 16th. It is the Winter Dragonfish caught out of the Ice Dungeon. \n  \nMarch 1st – 26th is the overall fishing Tournament where the top three fish of the biggest weight wins of any fish. \n 
URL:https://uo.com/event/siege-fishing-contest-week-two/
LOCATION:Siege Perilous
CATEGORIES:EM Event
END:VEVENT
END:VCALENDAR