BEGIN:VCALENDAR
VERSION:2.0
PRODID:-//Ultima Online - ECPv5.16.4.1//NONSGML v1.0//EN
CALSCALE:GREGORIAN
METHOD:PUBLISH
X-WR-CALNAME:Ultima Online
X-ORIGINAL-URL:https://uo.com
X-WR-CALDESC:Events for Ultima Online
BEGIN:VTIMEZONE
TZID:America/New_York
BEGIN:DAYLIGHT
TZOFFSETFROM:-0500
TZOFFSETTO:-0400
TZNAME:EDT
DTSTART:20160313T070000
END:DAYLIGHT
BEGIN:STANDARD
TZOFFSETFROM:-0400
TZOFFSETTO:-0500
TZNAME:EST
DTSTART:20161106T060000
END:STANDARD
TZID:America/Los_Angeles
BEGIN:DAYLIGHT
TZOFFSETFROM:-0800
TZOFFSETTO:-0700
TZNAME:PDT
DTSTART:20160313T100000
END:DAYLIGHT
BEGIN:STANDARD
TZOFFSETFROM:-0700
TZOFFSETTO:-0800
TZNAME:PST
DTSTART:20161106T090000
END:STANDARD
END:VTIMEZONE
BEGIN:VEVENT
DTSTART;TZID=America/New_York:20160317T000500
DTEND;TZID=America/New_York:20160324T235500
DTSTAMP:20260423T123310
CREATED:20160301T213250Z
LAST-MODIFIED:20160301T213251Z
UID:9241-1458173100-1458863700@uo.com
SUMMARY:Siege - Fishing Contest Week Three
DESCRIPTION:Week Three fish will be have to be caught on the dates of March 17th – 24th.  It is caught out of the Terathan Keep and is the Dungeon Pike. \n  \n  \nMarch 1st – 26th is the overall fishing Tournament where the top three fish of the biggest weight wins of any fish. \n 
URL:https://uo.com/event/siege-fishing-contest-week-three/
LOCATION:Siege Perilous
CATEGORIES:EM Event
END:VEVENT
BEGIN:VEVENT
DTSTART;TZID=America/Los_Angeles:20160317T190000
DTEND;TZID=America/Los_Angeles:20160317T200000
DTSTAMP:20260423T123310
CREATED:20160304T042332Z
LAST-MODIFIED:20160305T043509Z
UID:9306-1458241200-1458244800@uo.com
SUMMARY:Pacific - “A Spring Breeze To Ease The Winter Silence”
DESCRIPTION:
URL:https://uo.com/event/pacific-a-spring-breeze-to-ease-the-winter-silence/
LOCATION:Castle Blackthorn Courtyard
CATEGORIES:EM Event
END:VEVENT
BEGIN:VEVENT
DTSTART;TZID=America/New_York:20160317T190000
DTEND;TZID=America/New_York:20160317T200000
DTSTAMP:20260423T123310
CREATED:20160304T172838Z
LAST-MODIFIED:20160304T172838Z
UID:9314-1458241200-1458244800@uo.com
SUMMARY:****Lake Superior**** Kings Meeting
DESCRIPTION:The King Calls for his Governors and staff to talk about recent events.
URL:https://uo.com/event/lake-superior-kings-meeting/
LOCATION:BT Castle\, Brit
CATEGORIES:EM Event
END:VEVENT
END:VCALENDAR