BEGIN:VCALENDAR
VERSION:2.0
PRODID:-//Ultima Online - ECPv5.16.4.1//NONSGML v1.0//EN
CALSCALE:GREGORIAN
METHOD:PUBLISH
X-WR-CALNAME:Ultima Online
X-ORIGINAL-URL:https://uo.com
X-WR-CALDESC:Events for Ultima Online
BEGIN:VTIMEZONE
TZID:America/New_York
BEGIN:DAYLIGHT
TZOFFSETFROM:-0500
TZOFFSETTO:-0400
TZNAME:EDT
DTSTART:20160313T070000
END:DAYLIGHT
BEGIN:STANDARD
TZOFFSETFROM:-0400
TZOFFSETTO:-0500
TZNAME:EST
DTSTART:20161106T060000
END:STANDARD
TZID:America/Chicago
BEGIN:DAYLIGHT
TZOFFSETFROM:-0600
TZOFFSETTO:-0500
TZNAME:CDT
DTSTART:20160313T080000
END:DAYLIGHT
BEGIN:STANDARD
TZOFFSETFROM:-0500
TZOFFSETTO:-0600
TZNAME:CST
DTSTART:20161106T070000
END:STANDARD
END:VTIMEZONE
BEGIN:VEVENT
DTSTART;TZID=America/New_York:20160317T000500
DTEND;TZID=America/New_York:20160324T235500
DTSTAMP:20260423T123420
CREATED:20160301T213250Z
LAST-MODIFIED:20160301T213251Z
UID:9241-1458173100-1458863700@uo.com
SUMMARY:Siege - Fishing Contest Week Three
DESCRIPTION:Week Three fish will be have to be caught on the dates of March 17th – 24th.  It is caught out of the Terathan Keep and is the Dungeon Pike. \n  \n  \nMarch 1st – 26th is the overall fishing Tournament where the top three fish of the biggest weight wins of any fish. \n 
URL:https://uo.com/event/siege-fishing-contest-week-three/
LOCATION:Siege Perilous
CATEGORIES:EM Event
END:VEVENT
BEGIN:VEVENT
DTSTART;TZID=America/New_York:20160322T190000
DTEND;TZID=America/New_York:20160322T210000
DTSTAMP:20260423T123420
CREATED:20160310T003621Z
LAST-MODIFIED:20160320T200523Z
UID:9334-1458673200-1458680400@uo.com
SUMMARY:Chesapeake - The Forgotten
DESCRIPTION:Ongoing story arc.
URL:https://uo.com/event/chesapeake-the-forgotten/
CATEGORIES:EM Event
END:VEVENT
BEGIN:VEVENT
DTSTART;TZID=America/Chicago:20160322T200000
DTEND;TZID=America/Chicago:20160322T200000
DTSTAMP:20260423T123420
CREATED:20160301T045244Z
LAST-MODIFIED:20160301T045244Z
UID:9173-1458676800-1458676800@uo.com
SUMMARY:Great Lakes - Royal Spy Mission
DESCRIPTION:This Royal Spy mission has the codename “The Dragoon”. To attend\, go to the Britain Counselor Hall and investigate the suit of armor.
URL:https://uo.com/event/great-lakes-royal-spy-mission-13/
LOCATION:Great Lakes – Counselor Hall
CATEGORIES:EM Event
END:VEVENT
END:VCALENDAR