BEGIN:VCALENDAR
VERSION:2.0
PRODID:-//Ultima Online - ECPv5.16.4.1//NONSGML v1.0//EN
CALSCALE:GREGORIAN
METHOD:PUBLISH
X-WR-CALNAME:Ultima Online
X-ORIGINAL-URL:https://uo.com
X-WR-CALDESC:Events for Ultima Online
BEGIN:VTIMEZONE
TZID:Asia/Tokyo
BEGIN:STANDARD
TZOFFSETFROM:+0900
TZOFFSETTO:+0900
TZNAME:JST
DTSTART:20160101T000000
END:STANDARD
TZID:America/Chicago
BEGIN:DAYLIGHT
TZOFFSETFROM:-0600
TZOFFSETTO:-0500
TZNAME:CDT
DTSTART:20160313T080000
END:DAYLIGHT
BEGIN:STANDARD
TZOFFSETFROM:-0500
TZOFFSETTO:-0600
TZNAME:CST
DTSTART:20161106T070000
END:STANDARD
END:VTIMEZONE
BEGIN:VEVENT
DTSTART;TZID=Asia/Tokyo:20160325T220000
DTEND;TZID=Asia/Tokyo:20160331T230000
DTSTAMP:20260423T123421
CREATED:20160229T153119Z
LAST-MODIFIED:20160229T153119Z
UID:9161-1458943200-1459465200@uo.com
SUMMARY:Yamato - NPC Oracle event "Ancient Gargoyles"
DESCRIPTION:TBD \nSorry\, this event is in Japanese text only.
URL:https://uo.com/event/yamato-npc-oracle-event-ancient-gargoyles/
LOCATION:TBD
CATEGORIES:EM Event
END:VEVENT
BEGIN:VEVENT
DTSTART;TZID=America/Chicago:20160326T200000
DTEND;TZID=America/Chicago:20160326T200000
DTSTAMP:20260423T123421
CREATED:20160301T045333Z
LAST-MODIFIED:20160301T045333Z
UID:9174-1459022400-1459022400@uo.com
SUMMARY:Great Lakes - Get in the Basket
DESCRIPTION:Hop to It!
URL:https://uo.com/event/great-lakes-get-in-the-basket/
LOCATION:Great Lakes – Counselor Hall
CATEGORIES:EM Event
END:VEVENT
BEGIN:VEVENT
DTSTART;TZID=Asia/Tokyo:20160326T220000
DTEND;TZID=Asia/Tokyo:20160326T220000
DTSTAMP:20260423T123421
CREATED:20160315T171216Z
LAST-MODIFIED:20160315T171216Z
UID:9346-1459029600-1459029600@uo.com
SUMMARY:Sakura - Nekomata ! Sakura EM's 5th anniversary event
DESCRIPTION:TBD
URL:https://uo.com/event/sakura-nekomata-sakura-ems-5th-anniversary-event/
LOCATION:Sakura – EM Hall\, Japan
CATEGORIES:EM Event
END:VEVENT
END:VCALENDAR