BEGIN:VCALENDAR
VERSION:2.0
PRODID:-//Ultima Online - ECPv5.16.4.1//NONSGML v1.0//EN
CALSCALE:GREGORIAN
METHOD:PUBLISH
X-WR-CALNAME:Ultima Online
X-ORIGINAL-URL:https://uo.com
X-WR-CALDESC:Events for Ultima Online
BEGIN:VTIMEZONE
TZID:Asia/Tokyo
BEGIN:STANDARD
TZOFFSETFROM:+0900
TZOFFSETTO:+0900
TZNAME:JST
DTSTART:20160101T000000
END:STANDARD
TZID:America/Los_Angeles
BEGIN:DAYLIGHT
TZOFFSETFROM:-0800
TZOFFSETTO:-0700
TZNAME:PDT
DTSTART:20160313T100000
END:DAYLIGHT
BEGIN:STANDARD
TZOFFSETFROM:-0700
TZOFFSETTO:-0800
TZNAME:PST
DTSTART:20161106T090000
END:STANDARD
END:VTIMEZONE
BEGIN:VEVENT
DTSTART;TZID=Asia/Tokyo:20160325T220000
DTEND;TZID=Asia/Tokyo:20160331T230000
DTSTAMP:20260423T105717
CREATED:20160229T153119Z
LAST-MODIFIED:20160229T153119Z
UID:9161-1458943200-1459465200@uo.com
SUMMARY:Yamato - NPC Oracle event "Ancient Gargoyles"
DESCRIPTION:TBD \nSorry\, this event is in Japanese text only.
URL:https://uo.com/event/yamato-npc-oracle-event-ancient-gargoyles/
LOCATION:TBD
CATEGORIES:EM Event
END:VEVENT
BEGIN:VEVENT
DTSTART;TZID=America/Los_Angeles:20160328T190000
DTEND;TZID=America/Los_Angeles:20160328T200000
DTSTAMP:20260423T105717
CREATED:20160318T014849Z
LAST-MODIFIED:20160318T014849Z
UID:9369-1459191600-1459195200@uo.com
SUMMARY:Napa Valley - "The Last Sculpture"
DESCRIPTION:
URL:https://uo.com/event/napa-valley-the-last-sculpture/
LOCATION:Blackthorn’s Castle Courtyard
CATEGORIES:EM Event
END:VEVENT
END:VCALENDAR