BEGIN:VCALENDAR
VERSION:2.0
PRODID:-//Ultima Online - ECPv5.16.4.1//NONSGML v1.0//EN
CALSCALE:GREGORIAN
METHOD:PUBLISH
X-WR-CALNAME:Ultima Online
X-ORIGINAL-URL:https://uo.com
X-WR-CALDESC:Events for Ultima Online
BEGIN:VTIMEZONE
TZID:America/New_York
BEGIN:DAYLIGHT
TZOFFSETFROM:-0500
TZOFFSETTO:-0400
TZNAME:EDT
DTSTART:20160313T070000
END:DAYLIGHT
BEGIN:STANDARD
TZOFFSETFROM:-0400
TZOFFSETTO:-0500
TZNAME:EST
DTSTART:20161106T060000
END:STANDARD
TZID:America/Chicago
BEGIN:DAYLIGHT
TZOFFSETFROM:-0600
TZOFFSETTO:-0500
TZNAME:CDT
DTSTART:20160313T080000
END:DAYLIGHT
BEGIN:STANDARD
TZOFFSETFROM:-0500
TZOFFSETTO:-0600
TZNAME:CST
DTSTART:20161106T070000
END:STANDARD
END:VTIMEZONE
BEGIN:VEVENT
DTSTART;TZID=America/New_York:20160405T200000
DTEND;TZID=America/New_York:20160405T210000
DTSTAMP:20260423T105632
CREATED:20160331T205942Z
LAST-MODIFIED:20160331T205942Z
UID:9431-1459886400-1459890000@uo.com
SUMMARY:***Lake Superior*** 8pmEST April Fools Maze!
DESCRIPTION:so you think EM Chance’s maze are easy?  This one will be filled with DEATH. \nmake a team of 4 with the same colored robes and I hope you have a healer……… \nGates will be provided at Luna bank!
URL:https://uo.com/event/lake-superior-8pmest-april-fools-maze/
CATEGORIES:EM Event
END:VEVENT
BEGIN:VEVENT
DTSTART;TZID=America/Chicago:20160405T200000
DTEND;TZID=America/Chicago:20160405T200000
DTSTAMP:20260423T105632
CREATED:20160402T173046Z
LAST-MODIFIED:20160402T173046Z
UID:9445-1459886400-1459886400@uo.com
SUMMARY:Great Lakes - Royal Spy Mission
DESCRIPTION:This Royal Spy mission has the codename “The Druid”. To attend\, go to the Britain Counselor Hall and investigate the suit of armor.
URL:https://uo.com/event/great-lakes-royal-spy-mission-14/
LOCATION:Great Lakes – Counselor Hall
CATEGORIES:EM Event
END:VEVENT
END:VCALENDAR