BEGIN:VCALENDAR
VERSION:2.0
PRODID:-//Ultima Online - ECPv5.16.4.1//NONSGML v1.0//EN
CALSCALE:GREGORIAN
METHOD:PUBLISH
X-WR-CALNAME:Ultima Online
X-ORIGINAL-URL:https://uo.com
X-WR-CALDESC:Events for Ultima Online
BEGIN:VTIMEZONE
TZID:America/Los_Angeles
BEGIN:DAYLIGHT
TZOFFSETFROM:-0800
TZOFFSETTO:-0700
TZNAME:PDT
DTSTART:20160313T100000
END:DAYLIGHT
BEGIN:STANDARD
TZOFFSETFROM:-0700
TZOFFSETTO:-0800
TZNAME:PST
DTSTART:20161106T090000
END:STANDARD
TZID:Asia/Tokyo
BEGIN:STANDARD
TZOFFSETFROM:+0900
TZOFFSETTO:+0900
TZNAME:JST
DTSTART:20160101T000000
END:STANDARD
END:VTIMEZONE
BEGIN:VEVENT
DTSTART;TZID=America/Los_Angeles:20160408T190000
DTEND;TZID=America/Los_Angeles:20160408T200000
DTSTAMP:20260423T103556
CREATED:20160404T184530Z
LAST-MODIFIED:20160404T184530Z
UID:9456-1460142000-1460145600@uo.com
SUMMARY:Origin ~ Old Style Dungeon Crawl!
DESCRIPTION:
URL:https://uo.com/event/origin-old-style-dungeon-crawl-6/
LOCATION:Origin
CATEGORIES:EM Event
END:VEVENT
BEGIN:VEVENT
DTSTART;TZID=Asia/Tokyo:20160408T220000
DTEND;TZID=Asia/Tokyo:20160408T220000
DTSTAMP:20260423T103556
CREATED:20160323T124830Z
LAST-MODIFIED:20160323T124830Z
UID:9388-1460152800-1460152800@uo.com
SUMMARY:Asuka - Meet and Greet
DESCRIPTION:Location : EM Hall
URL:https://uo.com/event/asuka-mag/
LOCATION:Asuka
CATEGORIES:EM Event
END:VEVENT
END:VCALENDAR