BEGIN:VCALENDAR
VERSION:2.0
PRODID:-//Ultima Online - ECPv5.16.4.1//NONSGML v1.0//EN
CALSCALE:GREGORIAN
METHOD:PUBLISH
X-WR-CALNAME:Ultima Online
X-ORIGINAL-URL:https://uo.com
X-WR-CALDESC:Events for Ultima Online
BEGIN:VTIMEZONE
TZID:America/New_York
BEGIN:DAYLIGHT
TZOFFSETFROM:-0500
TZOFFSETTO:-0400
TZNAME:EDT
DTSTART:20160313T070000
END:DAYLIGHT
BEGIN:STANDARD
TZOFFSETFROM:-0400
TZOFFSETTO:-0500
TZNAME:EST
DTSTART:20161106T060000
END:STANDARD
TZID:Asia/Tokyo
BEGIN:STANDARD
TZOFFSETFROM:+0900
TZOFFSETTO:+0900
TZNAME:JST
DTSTART:20160101T000000
END:STANDARD
END:VTIMEZONE
BEGIN:VEVENT
DTSTART;TZID=America/New_York:20160416T153000
DTEND;TZID=America/New_York:20160416T170000
DTSTAMP:20260423T105631
CREATED:20160331T200528Z
LAST-MODIFIED:20160331T200528Z
UID:9429-1460820600-1460826000@uo.com
SUMMARY:Siege - The Party
DESCRIPTION:Fish are fried\,  ham is on the fire\, time to sit down and feast at a gathering.  Meet at King Blackthorn’s Castle in Britain. There will be food and a game at this social gathering.
URL:https://uo.com/event/siege-the-party/
LOCATION:Siege Perilous
CATEGORIES:EM Event
END:VEVENT
BEGIN:VEVENT
DTSTART;TZID=America/New_York:20160416T210000
DTEND;TZID=America/New_York:20160416T220000
DTSTAMP:20260423T105631
CREATED:20160405T000807Z
LAST-MODIFIED:20160406T223405Z
UID:9460-1460840400-1460844000@uo.com
SUMMARY:Lake Austin – 4-16 – 8pm CST (9EST) – Royal Spy Mission
DESCRIPTION:Lake Austin – 4-16 – 8pm CST (9EST) – Royal Spy Mission
URL:https://uo.com/event/lake-austin-4-16-8pm-cst-9est-royal-spy-mission/
CATEGORIES:EM Event
END:VEVENT
BEGIN:VEVENT
DTSTART;TZID=Asia/Tokyo:20160416T220000
DTEND;TZID=Asia/Tokyo:20160416T220000
DTSTAMP:20260423T105631
CREATED:20160319T233558Z
LAST-MODIFIED:20160319T233558Z
UID:9378-1460844000-1460844000@uo.com
SUMMARY:Wakoku - House design Contest –Spring 2016- Vote
DESCRIPTION:Application Period : 4/1 – 4/8 (JST) \nExhibition : 4/9 – 4/16 \nA Voting Day : 4/16 \nThemes : Coming of spring \nCustom House only!
URL:https://uo.com/event/wakoku-house-design-contest-spring-2016-vote/
LOCATION:Wakoku
CATEGORIES:EM Event
END:VEVENT
END:VCALENDAR