BEGIN:VCALENDAR
VERSION:2.0
PRODID:-//Ultima Online - ECPv5.16.4.1//NONSGML v1.0//EN
CALSCALE:GREGORIAN
METHOD:PUBLISH
X-WR-CALNAME:Ultima Online
X-ORIGINAL-URL:https://uo.com
X-WR-CALDESC:Events for Ultima Online
BEGIN:VTIMEZONE
TZID:America/Los_Angeles
BEGIN:DAYLIGHT
TZOFFSETFROM:-0800
TZOFFSETTO:-0700
TZNAME:PDT
DTSTART:20160313T100000
END:DAYLIGHT
BEGIN:STANDARD
TZOFFSETFROM:-0700
TZOFFSETTO:-0800
TZNAME:PST
DTSTART:20161106T090000
END:STANDARD
TZID:Asia/Tokyo
BEGIN:STANDARD
TZOFFSETFROM:+0900
TZOFFSETTO:+0900
TZNAME:JST
DTSTART:20160101T000000
END:STANDARD
END:VTIMEZONE
BEGIN:VEVENT
DTSTART;TZID=America/Los_Angeles:20160422T190000
DTEND;TZID=America/Los_Angeles:20160422T200000
DTSTAMP:20260423T105626
CREATED:20160414T182358Z
LAST-MODIFIED:20160414T182358Z
UID:9501-1461351600-1461355200@uo.com
SUMMARY:Origin ~ Have Gear Will Travel: The Assassins -Part 1 *FELUCCA*
DESCRIPTION:
URL:https://uo.com/event/origin-have-gear-will-travel-the-assassins-part-1-felucca/
LOCATION:Origin
CATEGORIES:EM Event
END:VEVENT
BEGIN:VEVENT
DTSTART;TZID=Asia/Tokyo:20160422T220000
DTEND;TZID=Asia/Tokyo:20160422T220000
DTSTAMP:20260423T105626
CREATED:20160323T125247Z
LAST-MODIFIED:20160323T125247Z
UID:9389-1461362400-1461362400@uo.com
SUMMARY:Asuka - TBD
DESCRIPTION:Location : TBD
URL:https://uo.com/event/asuka-tbd-2/
LOCATION:Asuka
CATEGORIES:EM Event
END:VEVENT
END:VCALENDAR