BEGIN:VCALENDAR
VERSION:2.0
PRODID:-//Ultima Online - ECPv5.16.4.1//NONSGML v1.0//EN
CALSCALE:GREGORIAN
METHOD:PUBLISH
X-WR-CALNAME:Ultima Online
X-ORIGINAL-URL:https://uo.com
X-WR-CALDESC:Events for Ultima Online
BEGIN:VTIMEZONE
TZID:America/Los_Angeles
BEGIN:DAYLIGHT
TZOFFSETFROM:-0800
TZOFFSETTO:-0700
TZNAME:PDT
DTSTART:20160313T100000
END:DAYLIGHT
BEGIN:STANDARD
TZOFFSETFROM:-0700
TZOFFSETTO:-0800
TZNAME:PST
DTSTART:20161106T090000
END:STANDARD
TZID:America/New_York
BEGIN:DAYLIGHT
TZOFFSETFROM:-0500
TZOFFSETTO:-0400
TZNAME:EDT
DTSTART:20160313T070000
END:DAYLIGHT
BEGIN:STANDARD
TZOFFSETFROM:-0400
TZOFFSETTO:-0500
TZNAME:EST
DTSTART:20161106T060000
END:STANDARD
END:VTIMEZONE
BEGIN:VEVENT
DTSTART;TZID=America/Los_Angeles:20160428T190000
DTEND;TZID=America/Los_Angeles:20160428T200000
DTSTAMP:20260423T090237
CREATED:20160406T022926Z
LAST-MODIFIED:20160406T223337Z
UID:9471-1461870000-1461873600@uo.com
SUMMARY:"Kings Meeting" - Pacific
DESCRIPTION:
URL:https://uo.com/event/kings-meeting-pacific/
LOCATION:Castle Blackthorn Governors Hall
CATEGORIES:EM Event
END:VEVENT
BEGIN:VEVENT
DTSTART;TZID=America/New_York:20160428T200000
DTEND;TZID=America/New_York:20160428T210000
DTSTAMP:20260423T090237
CREATED:20160401T213158Z
LAST-MODIFIED:20160401T213158Z
UID:9440-1461873600-1461877200@uo.com
SUMMARY:Legends - Duty Calls
DESCRIPTION:On Thursday\, April 28th at 8:00 PM EST\, meet Commander Arthur Forthwin at the courtyard of Castle Blackthorn.
URL:https://uo.com/event/legends-duty-calls/
LOCATION:Legends
CATEGORIES:EM Event
END:VEVENT
BEGIN:VEVENT
DTSTART;TZID=America/New_York:20160428T200000
DTEND;TZID=America/New_York:20160428T210000
DTSTAMP:20260423T090237
CREATED:20160407T225400Z
LAST-MODIFIED:20160407T225400Z
UID:9493-1461873600-1461877200@uo.com
SUMMARY:Atlantic - 8pm East @ Castle Blackthorn Courtyard
DESCRIPTION:
URL:https://uo.com/event/atlantic-8pm-east-castle-blackthorn-courtyard-2/
LOCATION:Blackthorn’s Castle Courtyard
CATEGORIES:EM Event
END:VEVENT
END:VCALENDAR