BEGIN:VCALENDAR
VERSION:2.0
PRODID:-//Ultima Online - ECPv5.16.4.1//NONSGML v1.0//EN
CALSCALE:GREGORIAN
METHOD:PUBLISH
X-WR-CALNAME:Ultima Online
X-ORIGINAL-URL:https://uo.com
X-WR-CALDESC:Events for Ultima Online
BEGIN:VTIMEZONE
TZID:America/Chicago
BEGIN:DAYLIGHT
TZOFFSETFROM:-0600
TZOFFSETTO:-0500
TZNAME:CDT
DTSTART:20160313T080000
END:DAYLIGHT
BEGIN:STANDARD
TZOFFSETFROM:-0500
TZOFFSETTO:-0600
TZNAME:CST
DTSTART:20161106T070000
END:STANDARD
TZID:Asia/Seoul
BEGIN:STANDARD
TZOFFSETFROM:+0900
TZOFFSETTO:+0900
TZNAME:KST
DTSTART:20160101T000000
END:STANDARD
TZID:America/New_York
BEGIN:DAYLIGHT
TZOFFSETFROM:-0500
TZOFFSETTO:-0400
TZNAME:EDT
DTSTART:20160313T070000
END:DAYLIGHT
BEGIN:STANDARD
TZOFFSETFROM:-0400
TZOFFSETTO:-0500
TZNAME:EST
DTSTART:20161106T060000
END:STANDARD
TZID:Asia/Tokyo
BEGIN:STANDARD
TZOFFSETFROM:+0900
TZOFFSETTO:+0900
TZNAME:JST
DTSTART:20160101T000000
END:STANDARD
END:VTIMEZONE
BEGIN:VEVENT
DTSTART;TZID=America/Chicago:20160430T200000
DTEND;TZID=America/Chicago:20160430T200000
DTSTAMP:20260423T090238
CREATED:20160402T173719Z
LAST-MODIFIED:20160402T173719Z
UID:9450-1462046400-1462046400@uo.com
SUMMARY:Great Lakes - Hamlet Busters
DESCRIPTION:“Do you believe in UFOs\, astral projections\, mental telepathy\, ESP\, clairvoyance\, spirit photography\, telekinetic movement\, full trance mediums\, the Loch Ness monster\, and the theory of Atlantis?”
URL:https://uo.com/event/great-lakes-hamlet-busters/
LOCATION:Great Lakes – Counselor Hall
CATEGORIES:EM Event
END:VEVENT
BEGIN:VEVENT
DTSTART;TZID=Asia/Seoul:20160430T200000
DTEND;TZID=Asia/Seoul:20160430T210000
DTSTAMP:20260423T090238
CREATED:20160405T142250Z
LAST-MODIFIED:20160405T142250Z
UID:9464-1462046400-1462050000@uo.com
SUMMARY:Arirang - Downfall of the Warlord
DESCRIPTION:Master Geaton failed to reveal the mastermind of all these crimes. The only evidence he found was a necklace that engraved with mysterious symbol that he never seen. King Blackthorn tried to figure out what the symbol stands for\, but there was nothing. He and Master Geaton thought it might be not from Britannia\, and they called diplomacy council to figure out what it is. \nDate/Time: April 30th 2016 Saturday 20:00 KST (06:00 ET)\nMeeting Place: Britain EM Hall
URL:https://uo.com/event/arirang-downfall-of-the-warlord/
LOCATION:Arirang
CATEGORIES:EM Event
END:VEVENT
BEGIN:VEVENT
DTSTART;TZID=America/New_York:20160430T200000
DTEND;TZID=America/New_York:20160430T210000
DTSTAMP:20260423T090238
CREATED:20160418T164733Z
LAST-MODIFIED:20160418T165328Z
UID:9574-1462046400-1462050000@uo.com
SUMMARY:The Bunny Said What?? (Chessy)
DESCRIPTION:Gate from Luna to be provided to the Counsel Hall to prepare. \n 
URL:https://uo.com/event/the-bunny-said-what-chessy/
LOCATION:Chesapeake
CATEGORIES:EM Event
END:VEVENT
BEGIN:VEVENT
DTSTART;TZID=Asia/Tokyo:20160430T210000
DTEND;TZID=Asia/Tokyo:20160430T210000
DTSTAMP:20260423T090238
CREATED:20160316T162041Z
LAST-MODIFIED:20160316T162041Z
UID:9356-1462050000-1462050000@uo.com
SUMMARY:Yamato - Boy's Day Event
DESCRIPTION:TBD
URL:https://uo.com/event/yamato-boys-day-event/
LOCATION:TBD
CATEGORIES:EM Event
END:VEVENT
BEGIN:VEVENT
DTSTART;TZID=Asia/Tokyo:20160430T214500
DTEND;TZID=Asia/Tokyo:20160430T214500
DTSTAMP:20260423T090238
CREATED:20160316T162149Z
LAST-MODIFIED:20160316T162149Z
UID:9358-1462052700-1462052700@uo.com
SUMMARY:Sakura - Boy's Day Event
DESCRIPTION:TBD
URL:https://uo.com/event/sakura-boys-day-event/
LOCATION:TBD
CATEGORIES:EM Event
END:VEVENT
BEGIN:VEVENT
DTSTART;TZID=Asia/Tokyo:20160430T223000
DTEND;TZID=Asia/Tokyo:20160430T223000
DTSTAMP:20260423T090238
CREATED:20160316T162257Z
LAST-MODIFIED:20160316T162257Z
UID:9360-1462055400-1462055400@uo.com
SUMMARY:Hokuto - Boy's Day Event
DESCRIPTION:TBD
URL:https://uo.com/event/hokuto-boys-day-event/
LOCATION:TBD
CATEGORIES:EM Event
END:VEVENT
END:VCALENDAR