BEGIN:VCALENDAR
VERSION:2.0
PRODID:-//Ultima Online - ECPv5.16.4.1//NONSGML v1.0//EN
CALSCALE:GREGORIAN
METHOD:PUBLISH
X-WR-CALNAME:Ultima Online
X-ORIGINAL-URL:https://uo.com
X-WR-CALDESC:Events for Ultima Online
BEGIN:VTIMEZONE
TZID:America/New_York
BEGIN:DAYLIGHT
TZOFFSETFROM:-0500
TZOFFSETTO:-0400
TZNAME:EDT
DTSTART:20160313T070000
END:DAYLIGHT
BEGIN:STANDARD
TZOFFSETFROM:-0400
TZOFFSETTO:-0500
TZNAME:EST
DTSTART:20161106T060000
END:STANDARD
TZID:Europe/Berlin
BEGIN:DAYLIGHT
TZOFFSETFROM:+0100
TZOFFSETTO:+0200
TZNAME:CEST
DTSTART:20160327T010000
END:DAYLIGHT
BEGIN:STANDARD
TZOFFSETFROM:+0200
TZOFFSETTO:+0100
TZNAME:CET
DTSTART:20161030T010000
END:STANDARD
TZID:Asia/Tokyo
BEGIN:STANDARD
TZOFFSETFROM:+0900
TZOFFSETTO:+0900
TZNAME:JST
DTSTART:20160101T000000
END:STANDARD
END:VTIMEZONE
BEGIN:VEVENT
DTSTART;TZID=America/New_York:20160508T200000
DTEND;TZID=America/New_York:20160508T210000
DTSTAMP:20260423T090342
CREATED:20160503T114937Z
LAST-MODIFIED:20160503T114937Z
UID:9669-1462737600-1462741200@uo.com
SUMMARY:****Lake Superior**** Mothers Day for a Litch 8pm EST
DESCRIPTION:Even Litch’s have a soft side…….Meet Larry The Litch at the Moonglow graveyard to help me send a letter to his Mom…….<3
URL:https://uo.com/event/lake-superior-mothers-day-for-a-litch-8pm-est/
CATEGORIES:EM Event
END:VEVENT
BEGIN:VEVENT
DTSTART;TZID=Europe/Berlin:20160508T203000
DTEND;TZID=Europe/Berlin:20160508T220000
DTSTAMP:20260423T090342
CREATED:20160503T070257Z
LAST-MODIFIED:20160503T070808Z
UID:9660-1462739400-1462744800@uo.com
SUMMARY:Drachenfels: Dear Mother... | Liebe Mutter... (RP HoF)
DESCRIPTION:Time: 8:30pm CEST (UTC+2).  Location: Castle Blackthorn Courtyard\, Britain\, Trammel.\nMini Event (RP): A HoF Mission – Garina Mamba has found a diary in the castle library and wants to know more about it… \nZeit: 20:30 Uhr CEST (UTC+2). Ort: Schloss Blackthorn\, im Schlosshof\, Britain\, Trammel.\nMini Event (RP): Eine HoF Mission – Garina Mamba hat ein Tagebuch in der Schloss Bibliothek gefunden und möchte gerne mehr darüber erfahren…
URL:https://uo.com/event/drachenfels-dear-mother-liebe-mutter/
LOCATION:Drachenfels
CATEGORIES:EM Event
END:VEVENT
BEGIN:VEVENT
DTSTART;TZID=Asia/Tokyo:20160508T220000
DTEND;TZID=Asia/Tokyo:20160508T220000
DTSTAMP:20260423T090342
CREATED:20160506T121924Z
LAST-MODIFIED:20160506T121924Z
UID:9681-1462744800-1462744800@uo.com
SUMMARY:Asuka-Council Meeting
DESCRIPTION:The monthly governor’s meeting with King Blackthorn.
URL:https://uo.com/event/asuka-council-meeting/
LOCATION:Castle Blackthorn
CATEGORIES:EM Event
END:VEVENT
END:VCALENDAR