BEGIN:VCALENDAR
VERSION:2.0
PRODID:-//Ultima Online - ECPv5.16.4.1//NONSGML v1.0//EN
CALSCALE:GREGORIAN
METHOD:PUBLISH
X-WR-CALNAME:Ultima Online
X-ORIGINAL-URL:https://uo.com
X-WR-CALDESC:Events for Ultima Online
BEGIN:VTIMEZONE
TZID:America/New_York
BEGIN:DAYLIGHT
TZOFFSETFROM:-0500
TZOFFSETTO:-0400
TZNAME:EDT
DTSTART:20160313T070000
END:DAYLIGHT
BEGIN:STANDARD
TZOFFSETFROM:-0400
TZOFFSETTO:-0500
TZNAME:EST
DTSTART:20161106T060000
END:STANDARD
TZID:America/Los_Angeles
BEGIN:DAYLIGHT
TZOFFSETFROM:-0800
TZOFFSETTO:-0700
TZNAME:PDT
DTSTART:20160313T100000
END:DAYLIGHT
BEGIN:STANDARD
TZOFFSETFROM:-0700
TZOFFSETTO:-0800
TZNAME:PST
DTSTART:20161106T090000
END:STANDARD
END:VTIMEZONE
BEGIN:VEVENT
DTSTART;TZID=America/New_York:20160509T010000
DTEND;TZID=America/New_York:20160523T230000
DTSTAMP:20260423T090505
CREATED:20160511T173957Z
LAST-MODIFIED:20160511T173957Z
UID:9735-1462755600-1464044400@uo.com
SUMMARY:Chessy - Fishing Contest
DESCRIPTION:Come one come all. Bring your boats\, bait\, and poles. Fish of the contest? Marlin! Either marlin will do.  Place your entry/entries into the mailbox and the HoC.  Good luck!!!
URL:https://uo.com/event/chessy-fishing-contest-2/
CATEGORIES:EM Event
END:VEVENT
BEGIN:VEVENT
DTSTART;TZID=America/Los_Angeles:20160512T190000
DTEND;TZID=America/Los_Angeles:20160512T200000
DTSTAMP:20260423T090505
CREATED:20160505T184338Z
LAST-MODIFIED:20160505T184741Z
UID:9678-1463079600-1463083200@uo.com
SUMMARY:Kings Meeting - Pacific
DESCRIPTION:
URL:https://uo.com/event/kings-meeting-pacific-2/
LOCATION:Castle Blackthorn Governors Hall
CATEGORIES:EM Event
END:VEVENT
BEGIN:VEVENT
DTSTART;TZID=America/New_York:20160512T200000
DTEND;TZID=America/New_York:20160512T210000
DTSTAMP:20260423T090505
CREATED:20160501T142949Z
LAST-MODIFIED:20160501T143357Z
UID:9641-1463083200-1463086800@uo.com
SUMMARY:Legends - The Hunt Continues
DESCRIPTION:On Thursday\, May 12th at 8:00 PM EST\, meet Commander Forthwin at the courtyard of Castle Blackthorn.
URL:https://uo.com/event/legends-the-hunt-continues/
LOCATION:Legends
CATEGORIES:EM Event
END:VEVENT
BEGIN:VEVENT
DTSTART;TZID=America/New_York:20160512T200000
DTEND;TZID=America/New_York:20160512T210000
DTSTAMP:20260423T090505
CREATED:20160506T220254Z
LAST-MODIFIED:20160506T220254Z
UID:9684-1463083200-1463086800@uo.com
SUMMARY:Atlantic - 8pm East @ Castle Blackthorn Courtyard
DESCRIPTION:
URL:https://uo.com/event/atlantic-8pm-east-castle-blackthorn-courtyard-3/
LOCATION:Blackthorn’s Castle Courtyard
CATEGORIES:EM Event
END:VEVENT
END:VCALENDAR