BEGIN:VCALENDAR
VERSION:2.0
PRODID:-//Ultima Online - ECPv5.16.4.1//NONSGML v1.0//EN
CALSCALE:GREGORIAN
METHOD:PUBLISH
X-WR-CALNAME:Ultima Online
X-ORIGINAL-URL:https://uo.com
X-WR-CALDESC:Events for Ultima Online
BEGIN:VTIMEZONE
TZID:America/New_York
BEGIN:DAYLIGHT
TZOFFSETFROM:-0500
TZOFFSETTO:-0400
TZNAME:EDT
DTSTART:20160313T070000
END:DAYLIGHT
BEGIN:STANDARD
TZOFFSETFROM:-0400
TZOFFSETTO:-0500
TZNAME:EST
DTSTART:20161106T060000
END:STANDARD
TZID:America/Los_Angeles
BEGIN:DAYLIGHT
TZOFFSETFROM:-0800
TZOFFSETTO:-0700
TZNAME:PDT
DTSTART:20160313T100000
END:DAYLIGHT
BEGIN:STANDARD
TZOFFSETFROM:-0700
TZOFFSETTO:-0800
TZNAME:PST
DTSTART:20161106T090000
END:STANDARD
TZID:Europe/Berlin
BEGIN:DAYLIGHT
TZOFFSETFROM:+0100
TZOFFSETTO:+0200
TZNAME:CEST
DTSTART:20160327T010000
END:DAYLIGHT
BEGIN:STANDARD
TZOFFSETFROM:+0200
TZOFFSETTO:+0100
TZNAME:CET
DTSTART:20161030T010000
END:STANDARD
TZID:Asia/Tokyo
BEGIN:STANDARD
TZOFFSETFROM:+0900
TZOFFSETTO:+0900
TZNAME:JST
DTSTART:20160101T000000
END:STANDARD
END:VTIMEZONE
BEGIN:VEVENT
DTSTART;TZID=America/New_York:20160509T010000
DTEND;TZID=America/New_York:20160523T230000
DTSTAMP:20260423T090619
CREATED:20160511T173957Z
LAST-MODIFIED:20160511T173957Z
UID:9735-1462755600-1464044400@uo.com
SUMMARY:Chessy - Fishing Contest
DESCRIPTION:Come one come all. Bring your boats\, bait\, and poles. Fish of the contest? Marlin! Either marlin will do.  Place your entry/entries into the mailbox and the HoC.  Good luck!!!
URL:https://uo.com/event/chessy-fishing-contest-2/
CATEGORIES:EM Event
END:VEVENT
BEGIN:VEVENT
DTSTART;TZID=America/Los_Angeles:20160513T190000
DTEND;TZID=America/Los_Angeles:20160513T200000
DTSTAMP:20260423T090619
CREATED:20160416T025039Z
LAST-MODIFIED:20160416T025039Z
UID:9510-1463166000-1463169600@uo.com
SUMMARY:Origin ~ Old Style Dungeon Crawl!
DESCRIPTION:
URL:https://uo.com/event/origin-old-style-dungeon-crawl-7/
LOCATION:Luna Stables (meet at)
CATEGORIES:EM Event
END:VEVENT
BEGIN:VEVENT
DTSTART;TZID=Europe/Berlin:20160513T203000
DTEND;TZID=Europe/Berlin:20160513T220000
DTSTAMP:20260423T090619
CREATED:20160503T071255Z
LAST-MODIFIED:20160510T071449Z
UID:9661-1463171400-1463176800@uo.com
SUMMARY:Drachenfels: Luck and Misfortune | Glück und Pech (RP HoF)
DESCRIPTION:Time: 8:30pm CEST (UTC+2).  Location: Castle Blackthorn Courtyard\, Britain\, Trammel.\nMain Event (RP): A HoF Mission – Vamie Joliva’s got a friend who was extremely unlucky these days. Or wasn’t he? \nZeit: 20:30 Uhr CEST (UTC+2). Ort: Schloss Blackthorn\, im Schlosshof\, Britain\, Trammel.\nHaupt Event (RP): Eine HoF Mission – Vamie Joliva hat ein Freund der sehr unglücklich war in den letzten Tagen. Oder etwa nicht?
URL:https://uo.com/event/drachenfels-luck-and-misfortune-gluck-und-pech-rp-hof/
LOCATION:Drachenfels
CATEGORIES:EM Event
END:VEVENT
BEGIN:VEVENT
DTSTART;TZID=Asia/Tokyo:20160513T220000
DTEND;TZID=Asia/Tokyo:20160513T230000
DTSTAMP:20260423T090619
CREATED:20160508T152820Z
LAST-MODIFIED:20160508T152820Z
UID:9694-1463176800-1463180400@uo.com
SUMMARY:Minion-Kun and the Nabe of Secrets
DESCRIPTION:=================================================\nこんにちは\n王室広報官のRiccioです。\n今回は、ミニオン君から依頼が来ています。\n詳しくは当日話すそうです。\n=================================================\n日時 5月13日 22時スタート\n集合場所：ミノック銀行前（トランメル）
URL:https://uo.com/event/minion-kun-and-the-nabe-of-secrets/
LOCATION:Hokuto
CATEGORIES:EM Event
END:VEVENT
END:VCALENDAR