BEGIN:VCALENDAR
VERSION:2.0
PRODID:-//Ultima Online - ECPv5.16.4.1//NONSGML v1.0//EN
CALSCALE:GREGORIAN
METHOD:PUBLISH
X-WR-CALNAME:Ultima Online
X-ORIGINAL-URL:https://uo.com
X-WR-CALDESC:Events for Ultima Online
BEGIN:VTIMEZONE
TZID:America/New_York
BEGIN:DAYLIGHT
TZOFFSETFROM:-0500
TZOFFSETTO:-0400
TZNAME:EDT
DTSTART:20160313T070000
END:DAYLIGHT
BEGIN:STANDARD
TZOFFSETFROM:-0400
TZOFFSETTO:-0500
TZNAME:EST
DTSTART:20161106T060000
END:STANDARD
TZID:America/Los_Angeles
BEGIN:DAYLIGHT
TZOFFSETFROM:-0800
TZOFFSETTO:-0700
TZNAME:PDT
DTSTART:20160313T100000
END:DAYLIGHT
BEGIN:STANDARD
TZOFFSETFROM:-0700
TZOFFSETTO:-0800
TZNAME:PST
DTSTART:20161106T090000
END:STANDARD
END:VTIMEZONE
BEGIN:VEVENT
DTSTART;TZID=America/New_York:20160509T010000
DTEND;TZID=America/New_York:20160523T230000
DTSTAMP:20260423T090506
CREATED:20160511T173957Z
LAST-MODIFIED:20160511T173957Z
UID:9735-1462755600-1464044400@uo.com
SUMMARY:Chessy - Fishing Contest
DESCRIPTION:Come one come all. Bring your boats\, bait\, and poles. Fish of the contest? Marlin! Either marlin will do.  Place your entry/entries into the mailbox and the HoC.  Good luck!!!
URL:https://uo.com/event/chessy-fishing-contest-2/
CATEGORIES:EM Event
END:VEVENT
BEGIN:VEVENT
DTSTART;TZID=America/New_York:20160518T070000
DTEND;TZID=America/New_York:20160518T200000
DTSTAMP:20260423T090506
CREATED:20160430T225721Z
LAST-MODIFIED:20160506T220050Z
UID:9632-1463554800-1463601600@uo.com
SUMMARY:Sonoma "Willow's Anniversary BBQ Bash"
DESCRIPTION:It’s a BBQ Party for Willow’s anniversary!\nYou’re all invited! \n  \nDetails TBA
URL:https://uo.com/event/sonoma-willows-anniversary-bbq-bash/
CATEGORIES:EM Event
END:VEVENT
BEGIN:VEVENT
DTSTART;TZID=America/New_York:20160518T080000
DTEND;TZID=America/New_York:20160518T210000
DTSTAMP:20260423T090506
CREATED:20160511T043851Z
LAST-MODIFIED:20160511T215344Z
UID:9728-1463558400-1463605200@uo.com
SUMMARY:Chessy Governor Meeting
DESCRIPTION:Come one come all.All governors let me know if you can’t make it.  Citizens ALWAYS welcome!!  Event will start at 8pm EST.
URL:https://uo.com/event/chessy-fishing-contest/
LOCATION:Castle Blackthorn
CATEGORIES:EM Event
END:VEVENT
BEGIN:VEVENT
DTSTART;TZID=America/Los_Angeles:20160518T200000
DTEND;TZID=America/Los_Angeles:20160518T210000
DTSTAMP:20260423T090506
CREATED:20160512T020340Z
LAST-MODIFIED:20160512T020340Z
UID:9736-1463601600-1463605200@uo.com
SUMMARY:Baja - Governors Meeting
DESCRIPTION:King Blackthorn has called a meeting to discuss plans for ending the reign of terror by the ghost ship Celeste.
URL:https://uo.com/event/baja-governors-meeting-2/
LOCATION:Castle Blackthorn
CATEGORIES:EM Event
END:VEVENT
END:VCALENDAR