BEGIN:VCALENDAR
VERSION:2.0
PRODID:-//Ultima Online - ECPv5.16.4.1//NONSGML v1.0//EN
CALSCALE:GREGORIAN
METHOD:PUBLISH
X-WR-CALNAME:Ultima Online
X-ORIGINAL-URL:https://uo.com
X-WR-CALDESC:Events for Ultima Online
BEGIN:VTIMEZONE
TZID:America/New_York
BEGIN:DAYLIGHT
TZOFFSETFROM:-0500
TZOFFSETTO:-0400
TZNAME:EDT
DTSTART:20160313T070000
END:DAYLIGHT
BEGIN:STANDARD
TZOFFSETFROM:-0400
TZOFFSETTO:-0500
TZNAME:EST
DTSTART:20161106T060000
END:STANDARD
TZID:Europe/Berlin
BEGIN:DAYLIGHT
TZOFFSETFROM:+0100
TZOFFSETTO:+0200
TZNAME:CEST
DTSTART:20160327T010000
END:DAYLIGHT
BEGIN:STANDARD
TZOFFSETFROM:+0200
TZOFFSETTO:+0100
TZNAME:CET
DTSTART:20161030T010000
END:STANDARD
TZID:Asia/Tokyo
BEGIN:STANDARD
TZOFFSETFROM:+0900
TZOFFSETTO:+0900
TZNAME:JST
DTSTART:20160101T000000
END:STANDARD
END:VTIMEZONE
BEGIN:VEVENT
DTSTART;TZID=America/New_York:20160509T010000
DTEND;TZID=America/New_York:20160523T230000
DTSTAMP:20260423T090610
CREATED:20160511T173957Z
LAST-MODIFIED:20160511T173957Z
UID:9735-1462755600-1464044400@uo.com
SUMMARY:Chessy - Fishing Contest
DESCRIPTION:Come one come all. Bring your boats\, bait\, and poles. Fish of the contest? Marlin! Either marlin will do.  Place your entry/entries into the mailbox and the HoC.  Good luck!!!
URL:https://uo.com/event/chessy-fishing-contest-2/
CATEGORIES:EM Event
END:VEVENT
BEGIN:VEVENT
DTSTART;TZID=America/New_York:20160522T190000
DTEND;TZID=America/New_York:20160522T200000
DTSTAMP:20260423T090610
CREATED:20160430T230801Z
LAST-MODIFIED:20160506T220041Z
UID:9635-1463943600-1463947200@uo.com
SUMMARY:Sonoma Governors Meeting
DESCRIPTION:Due to Mother’s Day the Governor’s council will take place on May 22nd at 7pm PDT
URL:https://uo.com/event/sonoma-governors-meeting-2/
CATEGORIES:EM Event
END:VEVENT
BEGIN:VEVENT
DTSTART;TZID=America/New_York:20160522T200000
DTEND;TZID=America/New_York:20160522T210000
DTSTAMP:20260423T090610
CREATED:20160511T172203Z
LAST-MODIFIED:20160511T172848Z
UID:9731-1463947200-1463950800@uo.com
SUMMARY:Chessy - Animal Crossing
DESCRIPTION:Help a local rancher herd his animals to a safer location. It’s a dangerous road\, and he doesn’t want to lose his prized livestock. Event will start at 8pm EST.
URL:https://uo.com/event/chessy-animal-crossing/
LOCATION:Chesapeake
CATEGORIES:EM Event
END:VEVENT
BEGIN:VEVENT
DTSTART;TZID=Europe/Berlin:20160522T203000
DTEND;TZID=Europe/Berlin:20160522T220000
DTSTAMP:20260423T090610
CREATED:20160503T072130Z
LAST-MODIFIED:20160503T072130Z
UID:9666-1463949000-1463954400@uo.com
SUMMARY:Drachenfels: Royal Audience & HoF | Königliche Audienz & HoF
DESCRIPTION:Time: 8:30pm CEST (UTC+2).  Location: Castle Blackthorn\, Britain\, Trammel.\nA Royal Audience will be held and another “House of Flunkeydom” (HoF) RP-event afterwards. \nZeit: 20:30 Uhr CEST (UTC+2). Ort: Schloss Blackthorn\, Britain\, Trammel.\nEine Königliche Audienz wird abgehalten und ein weiteres “Haus der Dienerschaft” (HoF) RP-Event danach stattfinden.
URL:https://uo.com/event/drachenfels-royal-audience-hof-konigliche-audienz-hof-4/
LOCATION:Drachenfels
CATEGORIES:EM Event
END:VEVENT
BEGIN:VEVENT
DTSTART;TZID=Asia/Tokyo:20160522T220000
DTEND;TZID=Asia/Tokyo:20160522T230000
DTSTAMP:20260423T090610
CREATED:20160519T173920Z
LAST-MODIFIED:20160519T173920Z
UID:9830-1463954400-1463958000@uo.com
SUMMARY:Dungeon Master Quiz
DESCRIPTION:ダンジョンに関するクイズを○×形式で出題します。 \n優勝者の名前はリワードホールに飾ります。 \n詳しくはHokutoのサイトをご覧ください。 \n日時：5月22日22時スタート
URL:https://uo.com/event/dungeon-master-quiz/
LOCATION:Hokuto
CATEGORIES:EM Event
END:VEVENT
END:VCALENDAR