BEGIN:VCALENDAR
VERSION:2.0
PRODID:-//Ultima Online - ECPv5.16.4.1//NONSGML v1.0//EN
CALSCALE:GREGORIAN
METHOD:PUBLISH
X-WR-CALNAME:Ultima Online
X-ORIGINAL-URL:https://uo.com
X-WR-CALDESC:Events for Ultima Online
BEGIN:VTIMEZONE
TZID:America/Los_Angeles
BEGIN:DAYLIGHT
TZOFFSETFROM:-0800
TZOFFSETTO:-0700
TZNAME:PDT
DTSTART:20160313T100000
END:DAYLIGHT
BEGIN:STANDARD
TZOFFSETFROM:-0700
TZOFFSETTO:-0800
TZNAME:PST
DTSTART:20161106T090000
END:STANDARD
TZID:America/New_York
BEGIN:DAYLIGHT
TZOFFSETFROM:-0500
TZOFFSETTO:-0400
TZNAME:EDT
DTSTART:20160313T070000
END:DAYLIGHT
BEGIN:STANDARD
TZOFFSETFROM:-0400
TZOFFSETTO:-0500
TZNAME:EST
DTSTART:20161106T060000
END:STANDARD
END:VTIMEZONE
BEGIN:VEVENT
DTSTART;TZID=America/Los_Angeles:20160526T190000
DTEND;TZID=America/Los_Angeles:20160526T200000
DTSTAMP:20260423T090611
CREATED:20160505T184533Z
LAST-MODIFIED:20160505T184533Z
UID:9680-1464289200-1464292800@uo.com
SUMMARY:Final Destination - Pacific
DESCRIPTION:
URL:https://uo.com/event/final-destination-pacific/
LOCATION:Castle Blackthorn Courtyard
CATEGORIES:EM Event
END:VEVENT
BEGIN:VEVENT
DTSTART;TZID=America/New_York:20160526T200000
DTEND;TZID=America/New_York:20160526T210000
DTSTAMP:20260423T090611
CREATED:20160501T143148Z
LAST-MODIFIED:20160501T143148Z
UID:9643-1464292800-1464296400@uo.com
SUMMARY:Legends - Cursed Legacy
DESCRIPTION:On Thursday\, May 26th at 8:00 PM EST\, meet Commander Forthwin at the courtyard of Castle Blackthorn.
URL:https://uo.com/event/legends-cursed-legacy/
LOCATION:Legends
CATEGORIES:EM Event
END:VEVENT
BEGIN:VEVENT
DTSTART;TZID=America/New_York:20160526T200000
DTEND;TZID=America/New_York:20160526T210000
DTSTAMP:20260423T090611
CREATED:20160503T115242Z
LAST-MODIFIED:20160503T115242Z
UID:9670-1464292800-1464296400@uo.com
SUMMARY:****Lake Superior**** David Doowit Carnival of Dragons 8pm EST
DESCRIPTION:Well Harry the leader of the Carnival of Dragons is not happy we had to put down his evil dragons……David needs your help to resolve this little issue.
URL:https://uo.com/event/lake-superior-david-doowit-carnival-of-dragons-8pm-est/
LOCATION:Moonglow Zoo
CATEGORIES:EM Event
END:VEVENT
BEGIN:VEVENT
DTSTART;TZID=America/New_York:20160526T200000
DTEND;TZID=America/New_York:20160526T210000
DTSTAMP:20260423T090611
CREATED:20160506T220521Z
LAST-MODIFIED:20160506T220521Z
UID:9687-1464292800-1464296400@uo.com
SUMMARY:Atlantic - 8pm East @ Castle Blackthorn Courtyard
DESCRIPTION:
URL:https://uo.com/event/atlantic-8pm-east-castle-blackthorn-courtyard-4/
LOCATION:Blackthorn’s Castle Courtyard
CATEGORIES:EM Event
END:VEVENT
BEGIN:VEVENT
DTSTART;TZID=America/New_York:20160526T220000
DTEND;TZID=America/New_York:20160526T220000
DTSTAMP:20260423T090611
CREATED:20160416T134049Z
LAST-MODIFIED:20160416T134150Z
UID:9514-1464300000-1464300000@uo.com
SUMMARY:Yamato - Totems and Offerings
DESCRIPTION:TBD
URL:https://uo.com/event/totems-and-offerings/
CATEGORIES:EM Event
END:VEVENT
END:VCALENDAR