BEGIN:VCALENDAR
VERSION:2.0
PRODID:-//Ultima Online - ECPv5.16.4.1//NONSGML v1.0//EN
CALSCALE:GREGORIAN
METHOD:PUBLISH
X-WR-CALNAME:Ultima Online
X-ORIGINAL-URL:https://uo.com
X-WR-CALDESC:Events for Ultima Online
BEGIN:VTIMEZONE
TZID:America/Los_Angeles
BEGIN:DAYLIGHT
TZOFFSETFROM:-0800
TZOFFSETTO:-0700
TZNAME:PDT
DTSTART:20160313T100000
END:DAYLIGHT
BEGIN:STANDARD
TZOFFSETFROM:-0700
TZOFFSETTO:-0800
TZNAME:PST
DTSTART:20161106T090000
END:STANDARD
TZID:America/New_York
BEGIN:DAYLIGHT
TZOFFSETFROM:-0500
TZOFFSETTO:-0400
TZNAME:EDT
DTSTART:20160313T070000
END:DAYLIGHT
BEGIN:STANDARD
TZOFFSETFROM:-0400
TZOFFSETTO:-0500
TZNAME:EST
DTSTART:20161106T060000
END:STANDARD
END:VTIMEZONE
BEGIN:VEVENT
DTSTART;TZID=America/Los_Angeles:20160527T190000
DTEND;TZID=America/Los_Angeles:20160527T200000
DTSTAMP:20260423T090611
CREATED:20160515T153412Z
LAST-MODIFIED:20160515T153412Z
UID:9780-1464375600-1464379200@uo.com
SUMMARY:Baja - Fishing Contest
DESCRIPTION:May’s Fish is the Fire Fish\, chosen by last month’s winner Loki Drunab. Fire Fish can be found in the depths of the dungeon Shame. Fish must be dated between May 1st and May 27th. The largest catch wins! \nWe will also be having a salvage hook toss this month. Salvage hooks are unique in that you do not need any fishing skill to use them\, and they have a very rare chance to pull up the elusive golden fishing pole! \nHope to see you there!
URL:https://uo.com/event/baja-fishing-contest/
LOCATION:Meet At Counselor Hall
CATEGORIES:EM Event
END:VEVENT
BEGIN:VEVENT
DTSTART;TZID=America/Los_Angeles:20160527T190000
DTEND;TZID=America/Los_Angeles:20160527T200000
DTSTAMP:20260423T090611
CREATED:20160522T232508Z
LAST-MODIFIED:20160522T232508Z
UID:9927-1464375600-1464379200@uo.com
SUMMARY:Origin ~ Have Gear Will Travel: The Assassins -Part 2 *FELUCCA*
DESCRIPTION:
URL:https://uo.com/event/origin-have-gear-will-travel-the-assassins-part-2-felucca/
CATEGORIES:EM Event
END:VEVENT
BEGIN:VEVENT
DTSTART;TZID=America/New_York:20160527T220000
DTEND;TZID=America/New_York:20160527T220000
DTSTAMP:20260423T090611
CREATED:20160501T094824Z
LAST-MODIFIED:20160512T152440Z
UID:9638-1464386400-1464386400@uo.com
SUMMARY:Izumo - Chase
DESCRIPTION:TBD
URL:https://uo.com/event/izumo-chase/
CATEGORIES:EM Event
END:VEVENT
END:VCALENDAR