BEGIN:VCALENDAR
VERSION:2.0
PRODID:-//Ultima Online - ECPv5.16.4.1//NONSGML v1.0//EN
CALSCALE:GREGORIAN
METHOD:PUBLISH
X-WR-CALNAME:Ultima Online
X-ORIGINAL-URL:https://uo.com
X-WR-CALDESC:Events for Ultima Online
BEGIN:VTIMEZONE
TZID:America/New_York
BEGIN:DAYLIGHT
TZOFFSETFROM:-0500
TZOFFSETTO:-0400
TZNAME:EDT
DTSTART:20160313T070000
END:DAYLIGHT
BEGIN:STANDARD
TZOFFSETFROM:-0400
TZOFFSETTO:-0500
TZNAME:EST
DTSTART:20161106T060000
END:STANDARD
TZID:America/Chicago
BEGIN:DAYLIGHT
TZOFFSETFROM:-0600
TZOFFSETTO:-0500
TZNAME:CDT
DTSTART:20160313T080000
END:DAYLIGHT
BEGIN:STANDARD
TZOFFSETFROM:-0500
TZOFFSETTO:-0600
TZNAME:CST
DTSTART:20161106T070000
END:STANDARD
TZID:Asia/Seoul
BEGIN:STANDARD
TZOFFSETFROM:+0900
TZOFFSETTO:+0900
TZNAME:KST
DTSTART:20160101T000000
END:STANDARD
TZID:Asia/Tokyo
BEGIN:STANDARD
TZOFFSETFROM:+0900
TZOFFSETTO:+0900
TZNAME:JST
DTSTART:20160101T000000
END:STANDARD
END:VTIMEZONE
BEGIN:VEVENT
DTSTART;TZID=America/New_York:20160528T133000
DTEND;TZID=America/New_York:20160528T143000
DTSTAMP:20260423T090458
CREATED:20160521T204628Z
LAST-MODIFIED:20160522T235058Z
UID:9925-1464442200-1464445800@uo.com
SUMMARY:Siege - Reading of the Cards
DESCRIPTION:What does an  gypsy’s tarot cards say with the upcoming changes around the Minoc area?
URL:https://uo.com/event/siege-reading-of-the-cards/
LOCATION:Siege Perilous
CATEGORIES:EM Event
END:VEVENT
BEGIN:VEVENT
DTSTART;TZID=America/Chicago:20160528T190000
DTEND;TZID=America/Chicago:20160528T190000
DTSTAMP:20260423T090458
CREATED:20160518T044806Z
LAST-MODIFIED:20160518T044806Z
UID:9822-1464462000-1464462000@uo.com
SUMMARY:Lake Austin - Town Council Meeting
DESCRIPTION:
URL:https://uo.com/event/lake-austin-town-council-meeting/
LOCATION:Castle Blackthorn
CATEGORIES:EM Event
END:VEVENT
BEGIN:VEVENT
DTSTART;TZID=Asia/Seoul:20160528T200000
DTEND;TZID=Asia/Seoul:20160528T210000
DTSTAMP:20260423T090458
CREATED:20160507T092410Z
LAST-MODIFIED:20160507T092410Z
UID:9691-1464465600-1464469200@uo.com
SUMMARY:Arirang - Iron Loyalty
DESCRIPTION:What happening in Tokuno Islands frightened Master Geaton. He immediately reported this to the Emperor of Empress. She and her vassals did not know how this happened. Because of political issue\, she cannot count on support from Britannia\, and for protection of Zento\, she cannot use her army. She has no choice but to summon travelers for help. \n  \nDate/TIme: May 28th 2016 Saturday 20:00 KST\nMeeting Place: Britain EM Hall
URL:https://uo.com/event/arirang-iron-loyalty/
LOCATION:Arirang
CATEGORIES:EM Event
END:VEVENT
BEGIN:VEVENT
DTSTART;TZID=America/Chicago:20160528T200000
DTEND;TZID=America/Chicago:20160528T200000
DTSTAMP:20260423T090458
CREATED:20160518T044933Z
LAST-MODIFIED:20160518T044933Z
UID:9823-1464465600-1464465600@uo.com
SUMMARY:Lake Austin - Oh Hadrian! Slumber Well...
DESCRIPTION:
URL:https://uo.com/event/lake-austin-oh-hadrian-slumber-well/
LOCATION:Britain Hall
CATEGORIES:EM Event
END:VEVENT
BEGIN:VEVENT
DTSTART;TZID=America/New_York:20160528T220000
DTEND;TZID=America/New_York:20160528T220000
DTSTAMP:20260423T090458
CREATED:20160501T095030Z
LAST-MODIFIED:20160501T095030Z
UID:9639-1464472800-1464472800@uo.com
SUMMARY:Izumo - The Council Meeting with the King
DESCRIPTION:The King invites all Governors and Citizens to the Council Meeting.\n*Please note this meeting requires everyone is “in-character”\, and thus roleplay is expected of all who attend.
URL:https://uo.com/event/izumo-the-council-meeting-with-the-king/
CATEGORIES:EM Event
END:VEVENT
BEGIN:VEVENT
DTSTART;TZID=Asia/Tokyo:20160528T220000
DTEND;TZID=Asia/Tokyo:20160528T230000
DTSTAMP:20260423T090458
CREATED:20160513T035835Z
LAST-MODIFIED:20160513T035835Z
UID:9768-1464472800-1464476400@uo.com
SUMMARY:Sakura - The Prince of Dolphins
DESCRIPTION:TBD \nchat:JapanEMevent
URL:https://uo.com/event/sakura-the-prince-of-dolphins/
LOCATION:Sakura – EM Hall\, Japan
CATEGORIES:EM Event
END:VEVENT
END:VCALENDAR