BEGIN:VCALENDAR
VERSION:2.0
PRODID:-//Ultima Online - ECPv5.16.4.1//NONSGML v1.0//EN
CALSCALE:GREGORIAN
METHOD:PUBLISH
X-WR-CALNAME:Ultima Online
X-ORIGINAL-URL:https://uo.com
X-WR-CALDESC:Events for Ultima Online
BEGIN:VTIMEZONE
TZID:America/New_York
BEGIN:DAYLIGHT
TZOFFSETFROM:-0500
TZOFFSETTO:-0400
TZNAME:EDT
DTSTART:20160313T070000
END:DAYLIGHT
BEGIN:STANDARD
TZOFFSETFROM:-0400
TZOFFSETTO:-0500
TZNAME:EST
DTSTART:20161106T060000
END:STANDARD
TZID:America/Los_Angeles
BEGIN:DAYLIGHT
TZOFFSETFROM:-0800
TZOFFSETTO:-0700
TZNAME:PDT
DTSTART:20160313T100000
END:DAYLIGHT
BEGIN:STANDARD
TZOFFSETFROM:-0700
TZOFFSETTO:-0800
TZNAME:PST
DTSTART:20161106T090000
END:STANDARD
END:VTIMEZONE
BEGIN:VEVENT
DTSTART;TZID=America/New_York:20160605T080000
DTEND;TZID=America/New_York:20160620T230000
DTSTAMP:20260423T073536
CREATED:20160606T181310Z
LAST-MODIFIED:20160606T181326Z
UID:10099-1465113600-1466463600@uo.com
SUMMARY:Chessy Monthly Fishing Contest
DESCRIPTION:This month’s fish will be the Autumn Dragonfish.  Please place all submissions into the mailbox\, as you did last month. May the best angler win!
URL:https://uo.com/event/chessy-monthly-fishing-contest/
LOCATION:Chesapeake
CATEGORIES:EM Event
END:VEVENT
BEGIN:VEVENT
DTSTART;TZID=America/Los_Angeles:20160615T190000
DTEND;TZID=America/Los_Angeles:20160615T200000
DTSTAMP:20260423T073536
CREATED:20160601T224711Z
LAST-MODIFIED:20160601T224711Z
UID:10068-1466017200-1466020800@uo.com
SUMMARY:Baja - The Crimson Solstice
DESCRIPTION:Merusan the Alchemist seeks your help in exploring a reported doyen of the Crimson Dagger!
URL:https://uo.com/event/baja-the-crimson-solstice/
LOCATION:Meet At Counselor Hall
CATEGORIES:EM Event
END:VEVENT
BEGIN:VEVENT
DTSTART;TZID=America/Los_Angeles:20160615T190000
DTEND;TZID=America/Los_Angeles:20160615T200000
DTSTAMP:20260423T073536
CREATED:20160605T055335Z
LAST-MODIFIED:20160605T055335Z
UID:10093-1466017200-1466020800@uo.com
SUMMARY:Sonoma Dungeon Crawl!!!
DESCRIPTION:June 15th 7pm Pacific/10pm Eastern – Dungeon Crawl!!! Let’s kill some stuff!  Dungeon of the Month: Doom!
URL:https://uo.com/event/sonoma-dungeon-crawl/
LOCATION:Sonoma
CATEGORIES:EM Event
END:VEVENT
END:VCALENDAR