BEGIN:VCALENDAR
VERSION:2.0
PRODID:-//Ultima Online - ECPv5.16.4.1//NONSGML v1.0//EN
CALSCALE:GREGORIAN
METHOD:PUBLISH
X-WR-CALNAME:Ultima Online
X-ORIGINAL-URL:https://uo.com
X-WR-CALDESC:Events for Ultima Online
BEGIN:VTIMEZONE
TZID:America/New_York
BEGIN:DAYLIGHT
TZOFFSETFROM:-0500
TZOFFSETTO:-0400
TZNAME:EDT
DTSTART:20160313T070000
END:DAYLIGHT
BEGIN:STANDARD
TZOFFSETFROM:-0400
TZOFFSETTO:-0500
TZNAME:EST
DTSTART:20161106T060000
END:STANDARD
TZID:America/Los_Angeles
BEGIN:DAYLIGHT
TZOFFSETFROM:-0800
TZOFFSETTO:-0700
TZNAME:PDT
DTSTART:20160313T100000
END:DAYLIGHT
BEGIN:STANDARD
TZOFFSETFROM:-0700
TZOFFSETTO:-0800
TZNAME:PST
DTSTART:20161106T090000
END:STANDARD
END:VTIMEZONE
BEGIN:VEVENT
DTSTART;TZID=America/New_York:20160605T080000
DTEND;TZID=America/New_York:20160620T230000
DTSTAMP:20260423T073356
CREATED:20160606T181310Z
LAST-MODIFIED:20160606T181326Z
UID:10099-1465113600-1466463600@uo.com
SUMMARY:Chessy Monthly Fishing Contest
DESCRIPTION:This month’s fish will be the Autumn Dragonfish.  Please place all submissions into the mailbox\, as you did last month. May the best angler win!
URL:https://uo.com/event/chessy-monthly-fishing-contest/
LOCATION:Chesapeake
CATEGORIES:EM Event
END:VEVENT
BEGIN:VEVENT
DTSTART;TZID=America/Los_Angeles:20160616T190000
DTEND;TZID=America/Los_Angeles:20160616T200000
DTSTAMP:20260423T073356
CREATED:20160609T053449Z
LAST-MODIFIED:20160609T223842Z
UID:10119-1466103600-1466107200@uo.com
SUMMARY:*Pacific* - The Beginning To End
DESCRIPTION:
URL:https://uo.com/event/pacific-the-beginning-to-end/
LOCATION:Castle Blackthorn Courtyard
CATEGORIES:EM Event
END:VEVENT
BEGIN:VEVENT
DTSTART;TZID=America/New_York:20160616T200000
DTEND;TZID=America/New_York:20160616T210000
DTSTAMP:20260423T073356
CREATED:20160604T150835Z
LAST-MODIFIED:20160604T150835Z
UID:10089-1466107200-1466110800@uo.com
SUMMARY:Legends - The Portal of Dom
DESCRIPTION:On Thursday\, June 16th at 8:00 PM EST\, meet at Castle Blackthorn
URL:https://uo.com/event/legends-the-portal-of-dom/
LOCATION:Legends
CATEGORIES:EM Event
END:VEVENT
BEGIN:VEVENT
DTSTART;TZID=America/New_York:20160616T200000
DTEND;TZID=America/New_York:20160616T210000
DTSTAMP:20260423T073356
CREATED:20160609T223621Z
LAST-MODIFIED:20160609T223621Z
UID:10140-1466107200-1466110800@uo.com
SUMMARY:Atlantic - 8pm East @ Castle Blackthorn Courtyard
DESCRIPTION:
URL:https://uo.com/event/atlantic-8pm-east-castle-blackthorn-courtyard-5/
LOCATION:Blackthorn’s Castle Courtyard
CATEGORIES:EM Event
END:VEVENT
END:VCALENDAR