BEGIN:VCALENDAR
VERSION:2.0
PRODID:-//Ultima Online - ECPv5.16.4.1//NONSGML v1.0//EN
CALSCALE:GREGORIAN
METHOD:PUBLISH
X-WR-CALNAME:Ultima Online
X-ORIGINAL-URL:https://uo.com
X-WR-CALDESC:Events for Ultima Online
BEGIN:VTIMEZONE
TZID:America/New_York
BEGIN:DAYLIGHT
TZOFFSETFROM:-0500
TZOFFSETTO:-0400
TZNAME:EDT
DTSTART:20160313T070000
END:DAYLIGHT
BEGIN:STANDARD
TZOFFSETFROM:-0400
TZOFFSETTO:-0500
TZNAME:EST
DTSTART:20161106T060000
END:STANDARD
TZID:Asia/Tokyo
BEGIN:STANDARD
TZOFFSETFROM:+0900
TZOFFSETTO:+0900
TZNAME:JST
DTSTART:20160101T000000
END:STANDARD
END:VTIMEZONE
BEGIN:VEVENT
DTSTART;TZID=America/New_York:20160605T080000
DTEND;TZID=America/New_York:20160620T230000
DTSTAMP:20260423T073228
CREATED:20160606T181310Z
LAST-MODIFIED:20160606T181326Z
UID:10099-1465113600-1466463600@uo.com
SUMMARY:Chessy Monthly Fishing Contest
DESCRIPTION:This month’s fish will be the Autumn Dragonfish.  Please place all submissions into the mailbox\, as you did last month. May the best angler win!
URL:https://uo.com/event/chessy-monthly-fishing-contest/
LOCATION:Chesapeake
CATEGORIES:EM Event
END:VEVENT
BEGIN:VEVENT
DTSTART;TZID=America/New_York:20160617T200000
DTEND;TZID=America/New_York:20160617T210000
DTSTAMP:20260423T073228
CREATED:20160603T194706Z
LAST-MODIFIED:20160603T194750Z
UID:10088-1466193600-1466197200@uo.com
SUMMARY:***Lake Superior*** VonDonts Final Stand 8pm est
DESCRIPTION:The title says it all…..Bring your best\, this is not going to be an easy kill……..
URL:https://uo.com/event/lake-superior-vondonts-final-stand-8pm-est/
LOCATION:BT Castle\, Brit
CATEGORIES:EM Event
END:VEVENT
BEGIN:VEVENT
DTSTART;TZID=Asia/Tokyo:20160617T220000
DTEND;TZID=Asia/Tokyo:20160617T230000
DTSTAMP:20260423T073228
CREATED:20160520T103303Z
LAST-MODIFIED:20160520T103627Z
UID:9866-1466200800-1466204400@uo.com
SUMMARY:Event(TBD)
DESCRIPTION:TBD
URL:https://uo.com/event/eventtbd/
LOCATION:Asuka
CATEGORIES:EM Event
END:VEVENT
END:VCALENDAR