BEGIN:VCALENDAR
VERSION:2.0
PRODID:-//Ultima Online - ECPv5.16.4.1//NONSGML v1.0//EN
CALSCALE:GREGORIAN
METHOD:PUBLISH
X-WR-CALNAME:Ultima Online
X-ORIGINAL-URL:https://uo.com
X-WR-CALDESC:Events for Ultima Online
BEGIN:VTIMEZONE
TZID:America/New_York
BEGIN:DAYLIGHT
TZOFFSETFROM:-0500
TZOFFSETTO:-0400
TZNAME:EDT
DTSTART:20160313T070000
END:DAYLIGHT
BEGIN:STANDARD
TZOFFSETFROM:-0400
TZOFFSETTO:-0500
TZNAME:EST
DTSTART:20161106T060000
END:STANDARD
TZID:America/Chicago
BEGIN:DAYLIGHT
TZOFFSETFROM:-0600
TZOFFSETTO:-0500
TZNAME:CDT
DTSTART:20160313T080000
END:DAYLIGHT
BEGIN:STANDARD
TZOFFSETFROM:-0500
TZOFFSETTO:-0600
TZNAME:CST
DTSTART:20161106T070000
END:STANDARD
TZID:Asia/Seoul
BEGIN:STANDARD
TZOFFSETFROM:+0900
TZOFFSETTO:+0900
TZNAME:KST
DTSTART:20160101T000000
END:STANDARD
TZID:Asia/Tokyo
BEGIN:STANDARD
TZOFFSETFROM:+0900
TZOFFSETTO:+0900
TZNAME:JST
DTSTART:20160101T000000
END:STANDARD
END:VTIMEZONE
BEGIN:VEVENT
DTSTART;TZID=America/New_York:20160605T080000
DTEND;TZID=America/New_York:20160620T230000
DTSTAMP:20260423T073502
CREATED:20160606T181310Z
LAST-MODIFIED:20160606T181326Z
UID:10099-1465113600-1466463600@uo.com
SUMMARY:Chessy Monthly Fishing Contest
DESCRIPTION:This month’s fish will be the Autumn Dragonfish.  Please place all submissions into the mailbox\, as you did last month. May the best angler win!
URL:https://uo.com/event/chessy-monthly-fishing-contest/
LOCATION:Chesapeake
CATEGORIES:EM Event
END:VEVENT
BEGIN:VEVENT
DTSTART;TZID=America/Chicago:20160618T200000
DTEND;TZID=America/Chicago:20160618T200000
DTSTAMP:20260423T073502
CREATED:20160602T045436Z
LAST-MODIFIED:20160602T045436Z
UID:10071-1466280000-1466280000@uo.com
SUMMARY:Great Lakes - (Felucca) Festival of Masks
DESCRIPTION:Thieves descend upon Felucca Nujel’m for the annual test of wits.
URL:https://uo.com/event/great-lakes-felucca-festival-of-masks/
LOCATION:Great Lakes – (Felucca) Nujel’m Palace
CATEGORIES:EM Event
END:VEVENT
BEGIN:VEVENT
DTSTART;TZID=Asia/Seoul:20160618T200000
DTEND;TZID=Asia/Seoul:20160618T210000
DTSTAMP:20260423T073502
CREATED:20160602T162343Z
LAST-MODIFIED:20160602T162343Z
UID:10076-1466280000-1466283600@uo.com
SUMMARY:Arirang - Archery Competition
DESCRIPTION:Date/Time: June 18th 2016 Saturday 20:00 KST (07:00 ET)\nMeeting Place: Britain EM Hall \n  \nThis is competition event. Therefore\, no combat and no reward. However\, name of 3 players who won the competition will be engraved in special sign and decorated in Britain EM Hall. \nDuring this event\, ordinary bow will be used for fairness. And player need to attend this competition with character that has no archery skills. All equipments should be undressed except no magical property clothing. If EM finds out any cheat or violation of these rules\, the player will be dropped out. \n2 or 3 players will be grouped and compete each others. If participants numbers are mismatched and someone is unpaired\, all of participants roll the dice and someone who got highest number will win by default. Each competitor fires 10 rounds each and total points will decide win or lose. \nThis competition will be tournament. \nTo read more details: http://www.ultimaonline.kr/498
URL:https://uo.com/event/arirang-archery-competition/
LOCATION:Arirang
CATEGORIES:EM Event
END:VEVENT
BEGIN:VEVENT
DTSTART;TZID=Asia/Tokyo:20160618T220000
DTEND;TZID=Asia/Tokyo:20160618T220000
DTSTAMP:20260423T073502
CREATED:20160516T110314Z
LAST-MODIFIED:20160516T110314Z
UID:9788-1466287200-1466287200@uo.com
SUMMARY:Wakoku – The Council Meeting
DESCRIPTION:Location : Castle Blackthorn
URL:https://uo.com/event/wakoku-the-council-meeting-7/
LOCATION:Wakoku
CATEGORIES:EM Event
END:VEVENT
BEGIN:VEVENT
DTSTART;TZID=Asia/Tokyo:20160618T220000
DTEND;TZID=Asia/Tokyo:20160618T220000
DTSTAMP:20260423T073502
CREATED:20160516T114605Z
LAST-MODIFIED:20160516T114605Z
UID:9790-1466287200-1466287200@uo.com
SUMMARY:Mizuho - Event (TBD)
DESCRIPTION:TBD
URL:https://uo.com/event/mizuho-event-tbd/
CATEGORIES:EM Event
END:VEVENT
BEGIN:VEVENT
DTSTART;TZID=America/New_York:20160618T220000
DTEND;TZID=America/New_York:20160618T220000
DTSTAMP:20260423T073502
CREATED:20160520T114128Z
LAST-MODIFIED:20160530T151757Z
UID:9874-1466287200-1466287200@uo.com
SUMMARY:Izumo - Inscription Contest
DESCRIPTION:TBD
URL:https://uo.com/event/izumo-eventtbd/
CATEGORIES:EM Event
END:VEVENT
END:VCALENDAR