BEGIN:VCALENDAR
VERSION:2.0
PRODID:-//Ultima Online - ECPv5.16.4.1//NONSGML v1.0//EN
CALSCALE:GREGORIAN
METHOD:PUBLISH
X-WR-CALNAME:Ultima Online
X-ORIGINAL-URL:https://uo.com
X-WR-CALDESC:Events for Ultima Online
BEGIN:VTIMEZONE
TZID:America/Los_Angeles
BEGIN:DAYLIGHT
TZOFFSETFROM:-0800
TZOFFSETTO:-0700
TZNAME:PDT
DTSTART:20160313T100000
END:DAYLIGHT
BEGIN:STANDARD
TZOFFSETFROM:-0700
TZOFFSETTO:-0800
TZNAME:PST
DTSTART:20161106T090000
END:STANDARD
TZID:Asia/Tokyo
BEGIN:STANDARD
TZOFFSETFROM:+0900
TZOFFSETTO:+0900
TZNAME:JST
DTSTART:20160101T000000
END:STANDARD
TZID:America/New_York
BEGIN:DAYLIGHT
TZOFFSETFROM:-0500
TZOFFSETTO:-0400
TZNAME:EDT
DTSTART:20160313T070000
END:DAYLIGHT
BEGIN:STANDARD
TZOFFSETFROM:-0400
TZOFFSETTO:-0500
TZNAME:EST
DTSTART:20161106T060000
END:STANDARD
END:VTIMEZONE
BEGIN:VEVENT
DTSTART;TZID=America/Los_Angeles:20160624T190000
DTEND;TZID=America/Los_Angeles:20160624T200000
DTSTAMP:20260423T073357
CREATED:20160621T041132Z
LAST-MODIFIED:20160621T041200Z
UID:10164-1466794800-1466798400@uo.com
SUMMARY:Origin ~ Have Gear Will Travel: The Assassins -Part 3 *Felucca & Ilshenar*
DESCRIPTION:
URL:https://uo.com/event/origin-have-gear-will-travel-the-assassins-part-3-felucca-ilshenar/
CATEGORIES:EM Event
END:VEVENT
BEGIN:VEVENT
DTSTART;TZID=Asia/Tokyo:20160624T220000
DTEND;TZID=Asia/Tokyo:20160624T220000
DTSTAMP:20260423T073357
CREATED:20160516T115345Z
LAST-MODIFIED:20160516T115345Z
UID:9791-1466805600-1466805600@uo.com
SUMMARY:Mizuho - The Council Meeting with the King
DESCRIPTION:Meet King Blackthorn at Castle Blackthorn Throne Room.
URL:https://uo.com/event/mizuho-the-council-meeting-with-the-king/
LOCATION:Castle Blackthorn
CATEGORIES:EM Event
END:VEVENT
BEGIN:VEVENT
DTSTART;TZID=America/New_York:20160624T220000
DTEND;TZID=America/New_York:20160624T220000
DTSTAMP:20260423T073357
CREATED:20160520T114236Z
LAST-MODIFIED:20160610T112903Z
UID:9875-1466805600-1466805600@uo.com
SUMMARY:Izumo - Britannia's kidnapper
DESCRIPTION:(TBD)
URL:https://uo.com/event/izumo-event-tbd/
CATEGORIES:EM Event
END:VEVENT
END:VCALENDAR