BEGIN:VCALENDAR
VERSION:2.0
PRODID:-//Ultima Online - ECPv5.16.4.1//NONSGML v1.0//EN
CALSCALE:GREGORIAN
METHOD:PUBLISH
X-WR-CALNAME:Ultima Online
X-ORIGINAL-URL:https://uo.com
X-WR-CALDESC:Events for Ultima Online
BEGIN:VTIMEZONE
TZID:Asia/Seoul
BEGIN:STANDARD
TZOFFSETFROM:+0900
TZOFFSETTO:+0900
TZNAME:KST
DTSTART:20160101T000000
END:STANDARD
TZID:Asia/Tokyo
BEGIN:STANDARD
TZOFFSETFROM:+0900
TZOFFSETTO:+0900
TZNAME:JST
DTSTART:20160101T000000
END:STANDARD
TZID:America/New_York
BEGIN:DAYLIGHT
TZOFFSETFROM:-0500
TZOFFSETTO:-0400
TZNAME:EDT
DTSTART:20160313T070000
END:DAYLIGHT
BEGIN:STANDARD
TZOFFSETFROM:-0400
TZOFFSETTO:-0500
TZNAME:EST
DTSTART:20161106T060000
END:STANDARD
END:VTIMEZONE
BEGIN:VEVENT
DTSTART;TZID=Asia/Seoul:20160625T200000
DTEND;TZID=Asia/Seoul:20160625T210000
DTSTAMP:20260423T073448
CREATED:20160602T162520Z
LAST-MODIFIED:20160602T162520Z
UID:10078-1466884800-1466888400@uo.com
SUMMARY:Arirang - The Journalist and Golem
DESCRIPTION:Date/Time: June 25th 2016 Saturday 20:00 KST (07:00 ET)\nMeeting Place: Britain EM Hall \nStory \n  \nA new journalist of Trinsic Tribune entered the building. Since he was kid\, he decided to become a journalist. And he dreamed interview King Blackthorn someday. But what he did so far was collecting news about fight within tavern\, robbed shop\, and interviewing immigrant from other cities. \nHe complained everyday. One day\, editor called him and yelled at him. And remind him that he is nothing but a smoob\, and men cannot always do whatever they want. It is so called life. He got mad and yelled back to editor\, and said he will get a scoop. As soon as he left the building\, he sold everything he got. \nIn his mind\, he felt that this could be gone wrong\, but dice already thrown. He joined the caravan to Britain. Now his only way to survive is get a scoop. \nAs soon as he arrived Britain\, he walked into tavern near the bank. He drank an ale\, and stand up on table\, and then yelled. \n“Is there anyone who brave enough to travel to Felucca? I am looking for mercenaries! Looking for brave enough to travel from Felucca and even Ilshenar!” \nThere was silence for a moment\, and then laughter bursted out. An old mercenary laughed at him and said. \n“Hey\, lad. Felucca is now in chaos. King’s army and the witch’s army is fighting all over the realm\, every cities. There is handful of people who willing to travel there even if they have thousand golds. And yet\, you are saying to Ilshenar? You are out of damn mind?” \nHis face became red and he yelled back to old mercenary. \n“Then you are nothing but a mercenary who doesn’t have balls than humble journalist!” \nThat’s how he crawled through tavern doors with nose bleed. \n  \nTo read more details: http://www.ultimaonline.kr/499
URL:https://uo.com/event/arirang-the-journalist-and-golem/
LOCATION:Arirang
CATEGORIES:EM Event
END:VEVENT
BEGIN:VEVENT
DTSTART;TZID=Asia/Tokyo:20160625T220000
DTEND;TZID=Asia/Tokyo:20160625T220000
DTSTAMP:20260423T073448
CREATED:20160515T173032Z
LAST-MODIFIED:20160515T173048Z
UID:9784-1466892000-1466892000@uo.com
SUMMARY:Yamato - "Anyway\, 'tis a dull story" Award
DESCRIPTION:6/6(Mon) – 6/19(Sun)  / Application period \nPick up a pilot’s mutter and submit a story expanded.  A write up should be concluded within 40 pages book\, with the phrase “Anyway\, ’tis a dull story”. \n  \n6/21 (Tue) – 6/24(Fri)  /  Voting period \nVote for your favorite! \n  \n6/25 (Sat) /  Winners Announcement and Award Ceremony (with EM’s Mini Theater) \nTBD \n 
URL:https://uo.com/event/yamato-anyway-tis-a-dull-story-award/
LOCATION:Britain dock
CATEGORIES:EM Event
END:VEVENT
BEGIN:VEVENT
DTSTART;TZID=Asia/Tokyo:20160625T220000
DTEND;TZID=Asia/Tokyo:20160625T220000
DTSTAMP:20260423T073448
CREATED:20160516T110000Z
LAST-MODIFIED:20160516T110000Z
UID:9786-1466892000-1466892000@uo.com
SUMMARY:Wakoku – Reference 6 -Elsa's Love and Flowering-
DESCRIPTION:TBD
URL:https://uo.com/event/wakoku-reference-6-elsas-love-and-flowering/
LOCATION:Wakoku
CATEGORIES:EM Event
END:VEVENT
BEGIN:VEVENT
DTSTART;TZID=America/New_York:20160625T220000
DTEND;TZID=America/New_York:20160625T220000
DTSTAMP:20260423T073448
CREATED:20160520T114402Z
LAST-MODIFIED:20160528T150603Z
UID:9876-1466892000-1466892000@uo.com
SUMMARY:Izumo – The Council Meeting with the King
DESCRIPTION:
URL:https://uo.com/event/izumo-the-council-meeting-with-the-king-2/
CATEGORIES:EM Event
END:VEVENT
END:VCALENDAR