BEGIN:VCALENDAR
VERSION:2.0
PRODID:-//Ultima Online - ECPv5.16.4.1//NONSGML v1.0//EN
CALSCALE:GREGORIAN
METHOD:PUBLISH
X-WR-CALNAME:Ultima Online
X-ORIGINAL-URL:https://uo.com
X-WR-CALDESC:Events for Ultima Online
BEGIN:VTIMEZONE
TZID:Australia/Sydney
BEGIN:STANDARD
TZOFFSETFROM:+1100
TZOFFSETTO:+1000
TZNAME:AEST
DTSTART:20160402T160000
END:STANDARD
BEGIN:DAYLIGHT
TZOFFSETFROM:+1000
TZOFFSETTO:+1100
TZNAME:AEDT
DTSTART:20161001T160000
END:DAYLIGHT
TZID:Asia/Tokyo
BEGIN:STANDARD
TZOFFSETFROM:+0900
TZOFFSETTO:+0900
TZNAME:JST
DTSTART:20160101T000000
END:STANDARD
TZID:America/Los_Angeles
BEGIN:DAYLIGHT
TZOFFSETFROM:-0800
TZOFFSETTO:-0700
TZNAME:PDT
DTSTART:20160313T100000
END:DAYLIGHT
BEGIN:STANDARD
TZOFFSETFROM:-0700
TZOFFSETTO:-0800
TZNAME:PST
DTSTART:20161106T090000
END:STANDARD
TZID:America/New_York
BEGIN:DAYLIGHT
TZOFFSETFROM:-0500
TZOFFSETTO:-0400
TZNAME:EDT
DTSTART:20160313T070000
END:DAYLIGHT
BEGIN:STANDARD
TZOFFSETFROM:-0400
TZOFFSETTO:-0500
TZNAME:EST
DTSTART:20161106T060000
END:STANDARD
END:VTIMEZONE
BEGIN:VEVENT
DTSTART;TZID=Australia/Sydney:20160626T073000
DTEND;TZID=Australia/Sydney:20160626T203000
DTSTAMP:20260423T073502
CREATED:20160621T135942Z
LAST-MODIFIED:20160621T135942Z
UID:10165-1466926200-1466973000@uo.com
SUMMARY:OCEANIA - Royal Council with the King
DESCRIPTION:7.30 PM AEST \nGather at Castle Blackthorn for the monthly Governors meeting. \nCitizens welcome to attend. \n 
URL:https://uo.com/event/oceania-royal-council-with-the-king/
LOCATION:Oceania
CATEGORIES:EM Event
END:VEVENT
BEGIN:VEVENT
DTSTART;TZID=Asia/Tokyo:20160626T080000
DTEND;TZID=Asia/Tokyo:20160701T170000
DTSTAMP:20260423T073502
CREATED:20160520T103832Z
LAST-MODIFIED:20160622T145731Z
UID:9870-1466928000-1467392400@uo.com
SUMMARY:Asuka - Star Festival 1
DESCRIPTION:TBD
URL:https://uo.com/event/star-festival-1/
LOCATION:Asuka
CATEGORIES:EM Event
END:VEVENT
BEGIN:VEVENT
DTSTART;TZID=Asia/Tokyo:20160626T080000
DTEND;TZID=Asia/Tokyo:20160701T170000
DTSTAMP:20260423T073502
CREATED:20160520T104029Z
LAST-MODIFIED:20160622T145743Z
UID:9873-1466928000-1467392400@uo.com
SUMMARY:Wakoku - Star Festival 1
DESCRIPTION:TBD
URL:https://uo.com/event/star-festival-1-2/
LOCATION:Wakoku
CATEGORIES:EM Event
END:VEVENT
BEGIN:VEVENT
DTSTART;TZID=America/Los_Angeles:20160626T170000
DTEND;TZID=America/Los_Angeles:20160626T180000
DTSTAMP:20260423T073502
CREATED:20160609T224653Z
LAST-MODIFIED:20160609T224653Z
UID:10145-1466960400-1466964000@uo.com
SUMMARY:Napa Valley - Governor's Meeting
DESCRIPTION:
URL:https://uo.com/event/napa-valley-governors-meeting-7/
LOCATION:Council Chambers in Castle Blackthorn
CATEGORIES:EM Event
END:VEVENT
BEGIN:VEVENT
DTSTART;TZID=America/New_York:20160626T190000
DTEND;TZID=America/New_York:20160626T203000
DTSTAMP:20260423T073502
CREATED:20160618T211100Z
LAST-MODIFIED:20161008T221601Z
UID:10160-1466967600-1466973000@uo.com
SUMMARY:Catskills - Governors Meeting
DESCRIPTION:Gather at Castle Blackthorn for the monthly Governors meeting. \nCitizens welcome to attend.
URL:https://uo.com/event/catskills-governors-meeting/
LOCATION:Catskills
CATEGORIES:EM Event
END:VEVENT
BEGIN:VEVENT
DTSTART;TZID=America/New_York:20160626T200000
DTEND;TZID=America/New_York:20160626T210000
DTSTAMP:20260423T073502
CREATED:20160609T223756Z
LAST-MODIFIED:20160609T223756Z
UID:10143-1466971200-1466974800@uo.com
SUMMARY:Atlantic - 8pm East @ Conseil du Roi
DESCRIPTION:
URL:https://uo.com/event/atlantic-8pm-east-conseil-du-roi-2/
LOCATION:Council Chambers in Castle Blackthorn
CATEGORIES:EM Event
END:VEVENT
BEGIN:VEVENT
DTSTART;TZID=Australia/Sydney:20160626T210000
DTEND;TZID=Australia/Sydney:20160626T220000
DTSTAMP:20260423T073502
CREATED:20160603T090708Z
LAST-MODIFIED:20160621T140106Z
UID:10080-1466974800-1466978400@uo.com
SUMMARY:OCEANIA - Don't sleep
DESCRIPTION:Is it just a bad dream …a nightmare? or something more? Don’t sleep tonight\, stay awake…something Evil is here. Be ready to fight. \n9 PM AEST !
URL:https://uo.com/event/dont-sleep/
LOCATION:Oceania
CATEGORIES:EM Event
END:VEVENT
BEGIN:VEVENT
DTSTART;TZID=Asia/Tokyo:20160626T220000
DTEND;TZID=Asia/Tokyo:20160626T220000
DTSTAMP:20260423T073502
CREATED:20160515T180209Z
LAST-MODIFIED:20160515T180209Z
UID:9785-1466978400-1466978400@uo.com
SUMMARY:Yamato - The Council Meeting with the King
DESCRIPTION:The King invites all Governors and Citizens to the Council Meeting.\n*Please note this meeting requires everyone is “in-character”\, and thus roleplay is expected of all who attend.
URL:https://uo.com/event/yamato-the-council-meeting-with-the-king-9/
LOCATION:Castle Blackthorn
CATEGORIES:EM Event
END:VEVENT
BEGIN:VEVENT
DTSTART;TZID=Asia/Tokyo:20160626T220000
DTEND;TZID=Asia/Tokyo:20160626T220000
DTSTAMP:20260423T073502
CREATED:20160601T024657Z
LAST-MODIFIED:20160601T024657Z
UID:10058-1466978400-1466978400@uo.com
SUMMARY:Sakura - The Council Meeting With The King
DESCRIPTION:The monthly governor’s meeting with King Blackthorn.\nEveryone are invited.
URL:https://uo.com/event/sakura-the-council-meeting-with-the-king-6/
LOCATION:Castle Blackthorn
CATEGORIES:EM Event
END:VEVENT
END:VCALENDAR