BEGIN:VCALENDAR
VERSION:2.0
PRODID:-//Ultima Online - ECPv5.16.4.1//NONSGML v1.0//EN
CALSCALE:GREGORIAN
METHOD:PUBLISH
X-WR-CALNAME:Ultima Online
X-ORIGINAL-URL:https://uo.com
X-WR-CALDESC:Events for Ultima Online
BEGIN:VTIMEZONE
TZID:Asia/Tokyo
BEGIN:STANDARD
TZOFFSETFROM:+0900
TZOFFSETTO:+0900
TZNAME:JST
DTSTART:20160101T000000
END:STANDARD
TZID:America/Chicago
BEGIN:DAYLIGHT
TZOFFSETFROM:-0600
TZOFFSETTO:-0500
TZNAME:CDT
DTSTART:20160313T080000
END:DAYLIGHT
BEGIN:STANDARD
TZOFFSETFROM:-0500
TZOFFSETTO:-0600
TZNAME:CST
DTSTART:20161106T070000
END:STANDARD
TZID:America/New_York
BEGIN:DAYLIGHT
TZOFFSETFROM:-0500
TZOFFSETTO:-0400
TZNAME:EDT
DTSTART:20160313T070000
END:DAYLIGHT
BEGIN:STANDARD
TZOFFSETFROM:-0400
TZOFFSETTO:-0500
TZNAME:EST
DTSTART:20161106T060000
END:STANDARD
TZID:Europe/Berlin
BEGIN:DAYLIGHT
TZOFFSETFROM:+0100
TZOFFSETTO:+0200
TZNAME:CEST
DTSTART:20160327T010000
END:DAYLIGHT
BEGIN:STANDARD
TZOFFSETFROM:+0200
TZOFFSETTO:+0100
TZNAME:CET
DTSTART:20161030T010000
END:STANDARD
END:VTIMEZONE
BEGIN:VEVENT
DTSTART;TZID=Asia/Tokyo:20160626T080000
DTEND;TZID=Asia/Tokyo:20160701T170000
DTSTAMP:20260423T073320
CREATED:20160520T103832Z
LAST-MODIFIED:20160622T145731Z
UID:9870-1466928000-1467392400@uo.com
SUMMARY:Asuka - Star Festival 1
DESCRIPTION:TBD
URL:https://uo.com/event/star-festival-1/
LOCATION:Asuka
CATEGORIES:EM Event
END:VEVENT
BEGIN:VEVENT
DTSTART;TZID=Asia/Tokyo:20160626T080000
DTEND;TZID=Asia/Tokyo:20160701T170000
DTSTAMP:20260423T073320
CREATED:20160520T104029Z
LAST-MODIFIED:20160622T145743Z
UID:9873-1466928000-1467392400@uo.com
SUMMARY:Wakoku - Star Festival 1
DESCRIPTION:TBD
URL:https://uo.com/event/star-festival-1-2/
LOCATION:Wakoku
CATEGORIES:EM Event
END:VEVENT
BEGIN:VEVENT
DTSTART;TZID=America/Chicago:20160628T200000
DTEND;TZID=America/Chicago:20160628T200000
DTSTAMP:20260423T073320
CREATED:20160602T045909Z
LAST-MODIFIED:20160602T045909Z
UID:10075-1467144000-1467144000@uo.com
SUMMARY:Great Lakes - Royal Spy Mission
DESCRIPTION:This Royal Spy mission has the codename “Still Hearts”. To attend\, go to the Britain Counselor Hall and investigate the suit of armor.
URL:https://uo.com/event/great-lakes-royal-spy-mission-20/
LOCATION:Great Lakes – Counselor Hall
CATEGORIES:EM Event
END:VEVENT
BEGIN:VEVENT
DTSTART;TZID=America/New_York:20160628T200000
DTEND;TZID=America/New_York:20160628T210000
DTSTAMP:20260423T073320
CREATED:20160603T194222Z
LAST-MODIFIED:20160603T194222Z
UID:10086-1467144000-1467147600@uo.com
SUMMARY:***lake Superior*** Kings Meeting 8pmEST
DESCRIPTION:Same time same place! All LS and Governors should attend.
URL:https://uo.com/event/lake-superior-kings-meeting-8pmest/
LOCATION:BT Castle\, Brit
CATEGORIES:EM Event
END:VEVENT
BEGIN:VEVENT
DTSTART;TZID=Europe/Berlin:20160628T203000
DTEND;TZID=Europe/Berlin:20160628T220000
DTSTAMP:20260423T073320
CREATED:20160601T064832Z
LAST-MODIFIED:20160601T064832Z
UID:10066-1467145800-1467151200@uo.com
SUMMARY:Drachenfels: Midsummer Madness | Eine Mittsommer Albtraumnacht
DESCRIPTION:Time: 8:30pm CEST (UTC+2).  Location: Counselor’s Hall\, Britain\, Trammel.\nMain Event: Midsummer Madness or – Fire! Help Lieutenant Gelbendil to fight appearing fiery monsters in Britannia! \nZeit: 20:30 Uhr CEST (UTC+2). Ort: Counselor’s Hall\, Britain\, Trammel.\nHauptevent: Eine Mittsommer Albtraumnacht oder – Feurio! Helft Lieutenant Gelbendil erscheinende feurige Monster in Britannia zu bekämpfen!
URL:https://uo.com/event/drachenfels-midsummer-madness-eine-mittsommer-albtraumnacht/
LOCATION:Drachenfels
CATEGORIES:EM Event
END:VEVENT
END:VCALENDAR